BEGIN:VCALENDAR
VERSION:2.0
PRODID:-//River Arts Alliance - ECPv6.15.20//NONSGML v1.0//EN
CALSCALE:GREGORIAN
METHOD:PUBLISH
X-WR-CALNAME:River Arts Alliance
X-ORIGINAL-URL:https://riverartsalliance.org
X-WR-CALDESC:Events for River Arts Alliance
REFRESH-INTERVAL;VALUE=DURATION:PT1H
X-Robots-Tag:noindex
X-PUBLISHED-TTL:PT1H
BEGIN:VTIMEZONE
TZID:America/Chicago
BEGIN:DAYLIGHT
TZOFFSETFROM:-0600
TZOFFSETTO:-0500
TZNAME:CDT
DTSTART:20220313T080000
END:DAYLIGHT
BEGIN:STANDARD
TZOFFSETFROM:-0500
TZOFFSETTO:-0600
TZNAME:CST
DTSTART:20221106T070000
END:STANDARD
BEGIN:DAYLIGHT
TZOFFSETFROM:-0600
TZOFFSETTO:-0500
TZNAME:CDT
DTSTART:20230312T080000
END:DAYLIGHT
BEGIN:STANDARD
TZOFFSETFROM:-0500
TZOFFSETTO:-0600
TZNAME:CST
DTSTART:20231105T070000
END:STANDARD
BEGIN:DAYLIGHT
TZOFFSETFROM:-0600
TZOFFSETTO:-0500
TZNAME:CDT
DTSTART:20240310T080000
END:DAYLIGHT
BEGIN:STANDARD
TZOFFSETFROM:-0500
TZOFFSETTO:-0600
TZNAME:CST
DTSTART:20241103T070000
END:STANDARD
END:VTIMEZONE
BEGIN:VEVENT
DTSTART;TZID=America/Chicago:20230710T183000
DTEND;TZID=America/Chicago:20230710T203000
DTSTAMP:20260422T155841
CREATED:20230705T140109Z
LAST-MODIFIED:20230705T140109Z
UID:10000378-1689013800-1689021000@riverartsalliance.org
SUMMARY:Auditions for Theatre du Mississippi’s Return Engagement
DESCRIPTION:Curiosi-Tea House | 901 W 5th St.\ntheatredumiss.org \nTheatre du Mississippi announces auditions for the upcoming production of Return Engagement\, a play written by Kathleen Peterson. The play explores an older gay male actor’s struggle with multiple sclerosis and the necessity of moving home to receive help from his family. Auditions will be held on July 9th and 10th at Curiosi-Tea House. Performances are planned for September 29th – October 1st and October 6th – October 8th. Learn more.
URL:https://riverartsalliance.org/event/auditions-for-theatre-du-mississippis-return-engagement/2023-07-10/
LOCATION:Curiosi-Tea House\, 901 W 5th St.\, Winona\, MN\, 55987\, United States
END:VEVENT
END:VCALENDAR