BEGIN:VCALENDAR
VERSION:2.0
PRODID:-//River Arts Alliance - ECPv6.15.20//NONSGML v1.0//EN
CALSCALE:GREGORIAN
METHOD:PUBLISH
X-ORIGINAL-URL:https://riverartsalliance.org
X-WR-CALDESC:Events for River Arts Alliance
REFRESH-INTERVAL;VALUE=DURATION:PT1H
X-Robots-Tag:noindex
X-PUBLISHED-TTL:PT1H
BEGIN:VTIMEZONE
TZID:America/Chicago
BEGIN:DAYLIGHT
TZOFFSETFROM:-0600
TZOFFSETTO:-0500
TZNAME:CDT
DTSTART:20220313T080000
END:DAYLIGHT
BEGIN:STANDARD
TZOFFSETFROM:-0500
TZOFFSETTO:-0600
TZNAME:CST
DTSTART:20221106T070000
END:STANDARD
BEGIN:DAYLIGHT
TZOFFSETFROM:-0600
TZOFFSETTO:-0500
TZNAME:CDT
DTSTART:20230312T080000
END:DAYLIGHT
BEGIN:STANDARD
TZOFFSETFROM:-0500
TZOFFSETTO:-0600
TZNAME:CST
DTSTART:20231105T070000
END:STANDARD
BEGIN:DAYLIGHT
TZOFFSETFROM:-0600
TZOFFSETTO:-0500
TZNAME:CDT
DTSTART:20240310T080000
END:DAYLIGHT
BEGIN:STANDARD
TZOFFSETFROM:-0500
TZOFFSETTO:-0600
TZNAME:CST
DTSTART:20241103T070000
END:STANDARD
END:VTIMEZONE
BEGIN:VEVENT
DTSTART;TZID=America/Chicago:20230711T190000
DTEND;TZID=America/Chicago:20230711T190000
DTSTAMP:20260422T155853
CREATED:20230627T004901Z
LAST-MODIFIED:20230627T004901Z
UID:10000368-1689102000-1689102000@riverartsalliance.org
SUMMARY:Laureate Writers Series Presents Michael S. Moos
DESCRIPTION:Blue Heron Coffeehouse | 162 W 2nd St. \nMichael S. Moos is the author of The Idea of the Garden (winner of the Richard Snyder Prize\, Ashland University Poetry Press\, 2018)\, and three earlier poetry books. He will read his poetry as part of First Tuesday: The Laureate Writers Series. The event will be held on Tuesday\, July 11th at 7 pm at the Blue Heron Coffeehouse and is free and open to the public. \nThe reading will be followed by a book signing and an open mic. Please note that this event will be held on the second Tuesday this month\, due to the July 4th holiday. This First Tuesday Laureate Writers Series event is sponsored by the Maria W. Faust Sonnet Contest in partnership with the Blue Heron Coffeehouse. Learn more.
URL:https://riverartsalliance.org/event/laureate-writers-series-presents-michael-s-moos/
LOCATION:Blue Heron Coffeehouse\, 162 W 2nd St\, Winona\, MN\, 55987\, United States
END:VEVENT
END:VCALENDAR