BEGIN:VCALENDAR
VERSION:2.0
PRODID:-//River Arts Alliance - ECPv6.15.20//NONSGML v1.0//EN
CALSCALE:GREGORIAN
METHOD:PUBLISH
X-ORIGINAL-URL:https://riverartsalliance.org
X-WR-CALDESC:Events for River Arts Alliance
REFRESH-INTERVAL;VALUE=DURATION:PT1H
X-Robots-Tag:noindex
X-PUBLISHED-TTL:PT1H
BEGIN:VTIMEZONE
TZID:America/Chicago
BEGIN:DAYLIGHT
TZOFFSETFROM:-0600
TZOFFSETTO:-0500
TZNAME:CDT
DTSTART:20220313T080000
END:DAYLIGHT
BEGIN:STANDARD
TZOFFSETFROM:-0500
TZOFFSETTO:-0600
TZNAME:CST
DTSTART:20221106T070000
END:STANDARD
BEGIN:DAYLIGHT
TZOFFSETFROM:-0600
TZOFFSETTO:-0500
TZNAME:CDT
DTSTART:20230312T080000
END:DAYLIGHT
BEGIN:STANDARD
TZOFFSETFROM:-0500
TZOFFSETTO:-0600
TZNAME:CST
DTSTART:20231105T070000
END:STANDARD
BEGIN:DAYLIGHT
TZOFFSETFROM:-0600
TZOFFSETTO:-0500
TZNAME:CDT
DTSTART:20240310T080000
END:DAYLIGHT
BEGIN:STANDARD
TZOFFSETFROM:-0500
TZOFFSETTO:-0600
TZNAME:CST
DTSTART:20241103T070000
END:STANDARD
END:VTIMEZONE
BEGIN:VEVENT
DTSTART;TZID=America/Chicago:20230714T120000
DTEND;TZID=America/Chicago:20230714T120000
DTSTAMP:20260422T155853
CREATED:20230712T142954Z
LAST-MODIFIED:20230712T142954Z
UID:10000384-1689336000-1689336000@riverartsalliance.org
SUMMARY:Chill with Will - Imbroglio
DESCRIPTION:WSU DuFresne Performing Arts Center | 450 Johnson St.\ngrsf.org/workshop \nStudents age 11-18 can enroll in a FREE workshop prior to each Friday afternoon Great River Shakespeare Festival performance. The festival’s education team will guide them through theater games and activities. Then the group attends the performance together! Past workshops have included backstage tours\, narrated fight call\, and text workshops. \nFriday\, July 14 \nNoon – Theater Workshop\n1:00 – Imbroglio (Written and directed by Melissa Maxwell\, longtime member of the GRSF company) \nVisit grsf.coursestorm.com to register! Guardians wishing to accompany a student can purchase a discounted ticket for $20 by calling the GRSF office at 507-474-7900. Learn more.
URL:https://riverartsalliance.org/event/chill-with-will-imbroglio/
LOCATION:WSU DuFresne Performing Arts Center\, 450 Johnson St.\, Winona\, MN\, 55987\, United States
END:VEVENT
BEGIN:VEVENT
DTSTART;TZID=America/Chicago:20230714T180000
DTEND;TZID=America/Chicago:20230714T203000
DTSTAMP:20260422T155853
CREATED:20230705T142407Z
LAST-MODIFIED:20230705T142407Z
UID:10000380-1689357600-1689366600@riverartsalliance.org
SUMMARY:Amanda Grace + Friends At Island City Brewery
DESCRIPTION:Island City Brewing Company | 65 E Front St.\nmusicbyamandagrace.com \nJoin Amanda Grace and friends at Island City Brewery for a free event on Friday\, July 14th from 6-8:30 PM. She will play a mix of original folk\, rock and acoustic pop music.
URL:https://riverartsalliance.org/event/amanda-grace-friends-at-island-city-brewery/
LOCATION:Island City Brewing Company\, 65 E Front St\, Winona\, MN\, 55987\, United States
END:VEVENT
BEGIN:VEVENT
DTSTART;TZID=America/Chicago:20230714T190000
DTEND;TZID=America/Chicago:20230714T210000
DTSTAMP:20260422T155853
CREATED:20230713T021659Z
LAST-MODIFIED:20230713T021659Z
UID:10000386-1689361200-1689368400@riverartsalliance.org
SUMMARY:Gate City Jazz Band at Winona County Fair
DESCRIPTION:Winona County Fairgrounds | 506 W 6th St. | St. Charles\, MN \nFriday\, July 14\, the Gate City Jazz Band will be entertaining Winona County Fair folks from 7-9 pm. It isn’t past your bedtime\, stop by to hear some fine dixieland bedtime tunes.
URL:https://riverartsalliance.org/event/gate-city-jazz-band-at-winona-county-fair/
LOCATION:Winona County Fairgrounds\, 506 W 6th St.\, St. Charles\, MN\, 55972\, United States
END:VEVENT
END:VCALENDAR