BEGIN:VCALENDAR
VERSION:2.0
PRODID:-//River Arts Alliance - ECPv6.15.20//NONSGML v1.0//EN
CALSCALE:GREGORIAN
METHOD:PUBLISH
X-WR-CALNAME:River Arts Alliance
X-ORIGINAL-URL:https://riverartsalliance.org
X-WR-CALDESC:Events for River Arts Alliance
REFRESH-INTERVAL;VALUE=DURATION:PT1H
X-Robots-Tag:noindex
X-PUBLISHED-TTL:PT1H
BEGIN:VTIMEZONE
TZID:America/Chicago
BEGIN:DAYLIGHT
TZOFFSETFROM:-0600
TZOFFSETTO:-0500
TZNAME:CDT
DTSTART:20220313T080000
END:DAYLIGHT
BEGIN:STANDARD
TZOFFSETFROM:-0500
TZOFFSETTO:-0600
TZNAME:CST
DTSTART:20221106T070000
END:STANDARD
BEGIN:DAYLIGHT
TZOFFSETFROM:-0600
TZOFFSETTO:-0500
TZNAME:CDT
DTSTART:20230312T080000
END:DAYLIGHT
BEGIN:STANDARD
TZOFFSETFROM:-0500
TZOFFSETTO:-0600
TZNAME:CST
DTSTART:20231105T070000
END:STANDARD
BEGIN:DAYLIGHT
TZOFFSETFROM:-0600
TZOFFSETTO:-0500
TZNAME:CDT
DTSTART:20240310T080000
END:DAYLIGHT
BEGIN:STANDARD
TZOFFSETFROM:-0500
TZOFFSETTO:-0600
TZNAME:CST
DTSTART:20241103T070000
END:STANDARD
END:VTIMEZONE
BEGIN:VEVENT
DTSTART;TZID=America/Chicago:20230715T110000
DTEND;TZID=America/Chicago:20230715T110000
DTSTAMP:20260422T155841
CREATED:20230713T023722Z
LAST-MODIFIED:20230714T184940Z
UID:10000396-1689418800-1689418800@riverartsalliance.org
SUMMARY:2023 Maria W. Faust Sonnet Contest Celebration
DESCRIPTION:Winona County History Center | 160 Johnson St.\nsonnetcontest.org \nThe official end to the annual Maria W. Faust Sonnet Contest is a celebration of the winners\, hosted in person and online. The public is invited to attend this fun event on Saturday\, July 15th at 11:00 am at the Winona County History Center. (It can also be viewed online on the Maria W. Faust Sonnet Contest’s Facebook page.) Winning sonnets will be read by the poets over Zoom and by the contest’s judges. Following the event\, the winning sonnets will be published on the website: sonnetcontest.org. \nWhat started as a local contest sponsored by Winona’s First Poet Laureate and the Great River Shakespeare Festival has grown into an international phenomenon with a reach far beyond our community. The 2023 contest saw entries from 16 countries and 43 states. Learn more.
URL:https://riverartsalliance.org/event/2023-maria-w-faust-sonnet-contest-celebration/
LOCATION:Winona County History Center\, 160 Johnson St\, Winona\, MN\, 55987\, United States
END:VEVENT
END:VCALENDAR