BEGIN:VCALENDAR
VERSION:2.0
PRODID:-//River Arts Alliance - ECPv6.15.20//NONSGML v1.0//EN
CALSCALE:GREGORIAN
METHOD:PUBLISH
X-WR-CALNAME:River Arts Alliance
X-ORIGINAL-URL:https://riverartsalliance.org
X-WR-CALDESC:Events for River Arts Alliance
REFRESH-INTERVAL;VALUE=DURATION:PT1H
X-Robots-Tag:noindex
X-PUBLISHED-TTL:PT1H
BEGIN:VTIMEZONE
TZID:America/Chicago
BEGIN:DAYLIGHT
TZOFFSETFROM:-0600
TZOFFSETTO:-0500
TZNAME:CDT
DTSTART:20220313T080000
END:DAYLIGHT
BEGIN:STANDARD
TZOFFSETFROM:-0500
TZOFFSETTO:-0600
TZNAME:CST
DTSTART:20221106T070000
END:STANDARD
BEGIN:DAYLIGHT
TZOFFSETFROM:-0600
TZOFFSETTO:-0500
TZNAME:CDT
DTSTART:20230312T080000
END:DAYLIGHT
BEGIN:STANDARD
TZOFFSETFROM:-0500
TZOFFSETTO:-0600
TZNAME:CST
DTSTART:20231105T070000
END:STANDARD
BEGIN:DAYLIGHT
TZOFFSETFROM:-0600
TZOFFSETTO:-0500
TZNAME:CDT
DTSTART:20240310T080000
END:DAYLIGHT
BEGIN:STANDARD
TZOFFSETFROM:-0500
TZOFFSETTO:-0600
TZNAME:CST
DTSTART:20241103T070000
END:STANDARD
END:VTIMEZONE
BEGIN:VEVENT
DTSTART;TZID=America/Chicago:20230716T143000
DTEND;TZID=America/Chicago:20230716T173000
DTSTAMP:20260422T155843
CREATED:20230713T024750Z
LAST-MODIFIED:20230713T024814Z
UID:10000397-1689517800-1689528600@riverartsalliance.org
SUMMARY:Open Your Heart Challenge at July Jazz Jam
DESCRIPTION:Island City Brewing Company | 65 E Front St.\nH3OJazz.com \nJuly is the Open Your Heart Summer Challenge for Minnesota Food Shelves. On July 16\, H3O Jazz Trio and Island City Brewing Company will dedicate their monthly Jazz Jam fundraiser to Winona Volunteer Services (WVS). Island City as well as H3O will match all donations! Donations from the Jazz Jam will help the Winona Volunteer Services Food Shelf restock and distribute basic food items during the summer months – and help WVS get a proportional grant award based on what is collected locally. \nTo date\, H3O Jazz Trio and Island City Brewing have helped support local nonprofits with over $35\,000 in total donations through the generosity of Jazz Jam patrons! The June Jam raised over $1\,900 for the River Valley Raptors. Learn more.
URL:https://riverartsalliance.org/event/open-your-heart-challenge-at-july-jazz-jam/
LOCATION:Island City Brewing Company\, 65 E Front St\, Winona\, MN\, 55987\, United States
END:VEVENT
END:VCALENDAR