BEGIN:VCALENDAR
VERSION:2.0
PRODID:-//River Arts Alliance - ECPv6.15.20//NONSGML v1.0//EN
CALSCALE:GREGORIAN
METHOD:PUBLISH
X-WR-CALNAME:River Arts Alliance
X-ORIGINAL-URL:https://riverartsalliance.org
X-WR-CALDESC:Events for River Arts Alliance
REFRESH-INTERVAL;VALUE=DURATION:PT1H
X-Robots-Tag:noindex
X-PUBLISHED-TTL:PT1H
BEGIN:VTIMEZONE
TZID:America/Chicago
BEGIN:DAYLIGHT
TZOFFSETFROM:-0600
TZOFFSETTO:-0500
TZNAME:CDT
DTSTART:20220313T080000
END:DAYLIGHT
BEGIN:STANDARD
TZOFFSETFROM:-0500
TZOFFSETTO:-0600
TZNAME:CST
DTSTART:20221106T070000
END:STANDARD
BEGIN:DAYLIGHT
TZOFFSETFROM:-0600
TZOFFSETTO:-0500
TZNAME:CDT
DTSTART:20230312T080000
END:DAYLIGHT
BEGIN:STANDARD
TZOFFSETFROM:-0500
TZOFFSETTO:-0600
TZNAME:CST
DTSTART:20231105T070000
END:STANDARD
BEGIN:DAYLIGHT
TZOFFSETFROM:-0600
TZOFFSETTO:-0500
TZNAME:CDT
DTSTART:20240310T080000
END:DAYLIGHT
BEGIN:STANDARD
TZOFFSETFROM:-0500
TZOFFSETTO:-0600
TZNAME:CST
DTSTART:20241103T070000
END:STANDARD
END:VTIMEZONE
BEGIN:VEVENT
DTSTART;TZID=America/Chicago:20230718T190000
DTEND;TZID=America/Chicago:20230718T190000
DTSTAMP:20260422T155842
CREATED:20230713T143701Z
LAST-MODIFIED:20230713T143701Z
UID:10000398-1689706800-1689706800@riverartsalliance.org
SUMMARY:King’s Brass Present Free Concert at Central Lutheran
DESCRIPTION:Central Lutheran Church | 259 W Wabasha St. \nCentral Lutheran Church – Winona will host Tim Zimmerman and The King’s Brass for a free performance of hymn classics with a contemporary flair on July 18 at 7 pm. The King’s Brass features three trumpets\, three trombones\, a tuba\, percussion\, and keyboards. The instruments blend together to create a time of innovative worship that will be enjoyed by all generations. This exciting evening is open to all. A freewill offering will be taken to offset the group’s travel expenses. Learn more.
URL:https://riverartsalliance.org/event/kings-brass-present-free-concert-at-central-lutheran/
LOCATION:Central Lutheran Church\, 259 W Wabasha St.\, Winona\, MN\, 55987\, United States
END:VEVENT
END:VCALENDAR