BEGIN:VCALENDAR
VERSION:2.0
PRODID:-//River Arts Alliance - ECPv6.15.20//NONSGML v1.0//EN
CALSCALE:GREGORIAN
METHOD:PUBLISH
X-WR-CALNAME:River Arts Alliance
X-ORIGINAL-URL:https://riverartsalliance.org
X-WR-CALDESC:Events for River Arts Alliance
REFRESH-INTERVAL;VALUE=DURATION:PT1H
X-Robots-Tag:noindex
X-PUBLISHED-TTL:PT1H
BEGIN:VTIMEZONE
TZID:America/Chicago
BEGIN:DAYLIGHT
TZOFFSETFROM:-0600
TZOFFSETTO:-0500
TZNAME:CDT
DTSTART:20220313T080000
END:DAYLIGHT
BEGIN:STANDARD
TZOFFSETFROM:-0500
TZOFFSETTO:-0600
TZNAME:CST
DTSTART:20221106T070000
END:STANDARD
BEGIN:DAYLIGHT
TZOFFSETFROM:-0600
TZOFFSETTO:-0500
TZNAME:CDT
DTSTART:20230312T080000
END:DAYLIGHT
BEGIN:STANDARD
TZOFFSETFROM:-0500
TZOFFSETTO:-0600
TZNAME:CST
DTSTART:20231105T070000
END:STANDARD
BEGIN:DAYLIGHT
TZOFFSETFROM:-0600
TZOFFSETTO:-0500
TZNAME:CDT
DTSTART:20240310T080000
END:DAYLIGHT
BEGIN:STANDARD
TZOFFSETFROM:-0500
TZOFFSETTO:-0600
TZNAME:CST
DTSTART:20241103T070000
END:STANDARD
END:VTIMEZONE
BEGIN:VEVENT
DTSTART;TZID=America/Chicago:20230720T183000
DTEND;TZID=America/Chicago:20230720T200000
DTSTAMP:20260422T155841
CREATED:20230630T171813Z
LAST-MODIFIED:20230706T230132Z
UID:10000371-1689877800-1689883200@riverartsalliance.org
SUMMARY:artsXchange
DESCRIPTION:The artsXchange program will return on the 3rd Thursday of the month from July 2023 through April 2024. (Except for December\, when it will take place on the 2nd Thursday.) Watch for more information to come. \nPlease fill out this form to register to attend Deep Dive: Anatomy of Courtney Mattison’s Undercurrent\, an artsXchange discussion led by Anne Scott Plummer\, taking place from 6:30-8:00 pm on Thursday\, July 20 at the Minnesota Marine Art Museum\, 800 Riverview Drive\, Winona. \nThis artsXchange event is free to attend for members of River Arts Alliance or of the Minnesota Marine Art Museum. For non-members\, regular MMAM admission charges apply.
URL:https://riverartsalliance.org/event/artsxchange/2023-07-20/
LOCATION:Minnesota Marine Art Museum\, 800 Riverview Dr.\, Winona\, MN\, 55987\, United States
END:VEVENT
END:VCALENDAR