BEGIN:VCALENDAR
VERSION:2.0
PRODID:-//River Arts Alliance - ECPv6.15.20//NONSGML v1.0//EN
CALSCALE:GREGORIAN
METHOD:PUBLISH
X-ORIGINAL-URL:https://riverartsalliance.org
X-WR-CALDESC:Events for River Arts Alliance
REFRESH-INTERVAL;VALUE=DURATION:PT1H
X-Robots-Tag:noindex
X-PUBLISHED-TTL:PT1H
BEGIN:VTIMEZONE
TZID:America/Chicago
BEGIN:DAYLIGHT
TZOFFSETFROM:-0600
TZOFFSETTO:-0500
TZNAME:CDT
DTSTART:20220313T080000
END:DAYLIGHT
BEGIN:STANDARD
TZOFFSETFROM:-0500
TZOFFSETTO:-0600
TZNAME:CST
DTSTART:20221106T070000
END:STANDARD
BEGIN:DAYLIGHT
TZOFFSETFROM:-0600
TZOFFSETTO:-0500
TZNAME:CDT
DTSTART:20230312T080000
END:DAYLIGHT
BEGIN:STANDARD
TZOFFSETFROM:-0500
TZOFFSETTO:-0600
TZNAME:CST
DTSTART:20231105T070000
END:STANDARD
BEGIN:DAYLIGHT
TZOFFSETFROM:-0600
TZOFFSETTO:-0500
TZNAME:CDT
DTSTART:20240310T080000
END:DAYLIGHT
BEGIN:STANDARD
TZOFFSETFROM:-0500
TZOFFSETTO:-0600
TZNAME:CST
DTSTART:20241103T070000
END:STANDARD
END:VTIMEZONE
BEGIN:VEVENT
DTSTART;TZID=America/Chicago:20230721T120000
DTEND;TZID=America/Chicago:20230721T120000
DTSTAMP:20260422T155853
CREATED:20230713T144659Z
LAST-MODIFIED:20230713T144659Z
UID:10000399-1689940800-1689940800@riverartsalliance.org
SUMMARY:Chill with Will - The Winter's Tale
DESCRIPTION:WSU DuFresne Performing Arts Center | 450 Johnson St.\ngrsf.org/workshop \nStudents age 11-18 can enroll in a FREE workshop prior to each Friday afternoon Great River Shakespeare Festival performance. The festival’s education team will guide them through theater games and activities. Then the group attends the performance together! Past workshops have included backstage tours\, narrated fight call\, and text workshops. \nFriday\, July 21 \nNoon – Theater Workshop\n1:00 – The Winter’s Tale \nVisit grsf.coursestorm.com to register! Guardians wishing to accompany a student can purchase a discounted ticket for $20 by calling the GRSF office at 507-474-7900. Learn more.
URL:https://riverartsalliance.org/event/chill-with-will-the-winters-tale/
LOCATION:WSU DuFresne Performing Arts Center\, 450 Johnson St.\, Winona\, MN\, 55987\, United States
END:VEVENT
BEGIN:VEVENT
DTSTART;TZID=America/Chicago:20230721T180000
DTEND;TZID=America/Chicago:20230721T200000
DTSTAMP:20260422T155853
CREATED:20230719T010349Z
LAST-MODIFIED:20230724T032331Z
UID:10000168-1689962400-1689969600@riverartsalliance.org
SUMMARY:Opening Reception - Retrieval\, a Journey through Art – Paintings by Julia Crozier
DESCRIPTION:Blue Heron Coffeehouse | 162 W 2nd St.\nblueheroncoffeehouse.com \nTwo years of creating art have come together for a new exhibit called “Retrieval\,” by Julia Crozier. The drawings and paintings are mostly new and some “reworked work.” Road trips\, hiking experiences and everyday living have inspired the work represented. Retrieval reflects past and current connections with land\, cities and humanity’s relationship with the natural world. The exhibit is hosted by the Blue Heron Coffeehouse\, Winona\, Minnesota. It runs July 19-September 3. Opening reception is Friday\, July 21\, 6-8. An online gallery for the show is also available at Julia’s RAA member page at riverartsalliance.org/members/artists/julia-crozier/.
URL:https://riverartsalliance.org/event/opening-reception-retrieval-a-journey-through-art-paintings-by-julia-crozier/
LOCATION:Blue Heron Coffeehouse\, 162 W 2nd St\, Winona\, MN\, 55987\, United States
END:VEVENT
END:VCALENDAR