BEGIN:VCALENDAR
VERSION:2.0
PRODID:-//River Arts Alliance - ECPv6.15.20//NONSGML v1.0//EN
CALSCALE:GREGORIAN
METHOD:PUBLISH
X-ORIGINAL-URL:https://riverartsalliance.org
X-WR-CALDESC:Events for River Arts Alliance
REFRESH-INTERVAL;VALUE=DURATION:PT1H
X-Robots-Tag:noindex
X-PUBLISHED-TTL:PT1H
BEGIN:VTIMEZONE
TZID:America/Chicago
BEGIN:DAYLIGHT
TZOFFSETFROM:-0600
TZOFFSETTO:-0500
TZNAME:CDT
DTSTART:20220313T080000
END:DAYLIGHT
BEGIN:STANDARD
TZOFFSETFROM:-0500
TZOFFSETTO:-0600
TZNAME:CST
DTSTART:20221106T070000
END:STANDARD
BEGIN:DAYLIGHT
TZOFFSETFROM:-0600
TZOFFSETTO:-0500
TZNAME:CDT
DTSTART:20230312T080000
END:DAYLIGHT
BEGIN:STANDARD
TZOFFSETFROM:-0500
TZOFFSETTO:-0600
TZNAME:CST
DTSTART:20231105T070000
END:STANDARD
BEGIN:DAYLIGHT
TZOFFSETFROM:-0600
TZOFFSETTO:-0500
TZNAME:CDT
DTSTART:20240310T080000
END:DAYLIGHT
BEGIN:STANDARD
TZOFFSETFROM:-0500
TZOFFSETTO:-0600
TZNAME:CST
DTSTART:20241103T070000
END:STANDARD
END:VTIMEZONE
BEGIN:VEVENT
DTSTART;TZID=America/Chicago:20230727T190000
DTEND;TZID=America/Chicago:20230727T190000
DTSTAMP:20260422T155854
CREATED:20230719T010911Z
LAST-MODIFIED:20230719T010911Z
UID:10000169-1690484400-1690484400@riverartsalliance.org
SUMMARY:Sandbar Storytelling Festival’s ‘Business and Immigrant Stories of Winona’ - Thern\, Inc.
DESCRIPTION:Winona County History Center | 160 Johnson St.\nsandbarstorytellingfestival.org \nSharing the stories that have shaped Winona\, the Sandbar Storytelling Festival\, in partnership with the Winona County History Center\, is continuing “Business and Immigrant Stories of Winona.” The July 27 event\, featuring Thern\, Inc.\, will be at 7 p.m. at the History Center\, 160 Johnson St. Founded in Winona by the mechanically inclined Royal G. Thern and his wife\, Lucille\, during the post World War II boom\, Thern Incorporated began with a handful of basic winches and other miscellaneous tools. More than 70 years later\, Thern has built a solid reputation for manufacturing the most dependable\, powerful\, and durable solutions for moving loads of all sizes. As admission is free but limited\, please register online at www.sandbarstorytellingfestival.org. Learn more here.
URL:https://riverartsalliance.org/event/sandbar-storytelling-festivals-business-and-immigrant-stories-of-winona-thern-inc/
LOCATION:Winona County History Center\, 160 Johnson St\, Winona\, MN\, 55987\, United States
END:VEVENT
END:VCALENDAR