BEGIN:VCALENDAR
VERSION:2.0
PRODID:-//River Arts Alliance - ECPv6.15.20//NONSGML v1.0//EN
CALSCALE:GREGORIAN
METHOD:PUBLISH
X-ORIGINAL-URL:https://riverartsalliance.org
X-WR-CALDESC:Events for River Arts Alliance
REFRESH-INTERVAL;VALUE=DURATION:PT1H
X-Robots-Tag:noindex
X-PUBLISHED-TTL:PT1H
BEGIN:VTIMEZONE
TZID:America/Chicago
BEGIN:DAYLIGHT
TZOFFSETFROM:-0600
TZOFFSETTO:-0500
TZNAME:CDT
DTSTART:20220313T080000
END:DAYLIGHT
BEGIN:STANDARD
TZOFFSETFROM:-0500
TZOFFSETTO:-0600
TZNAME:CST
DTSTART:20221106T070000
END:STANDARD
BEGIN:DAYLIGHT
TZOFFSETFROM:-0600
TZOFFSETTO:-0500
TZNAME:CDT
DTSTART:20230312T080000
END:DAYLIGHT
BEGIN:STANDARD
TZOFFSETFROM:-0500
TZOFFSETTO:-0600
TZNAME:CST
DTSTART:20231105T070000
END:STANDARD
BEGIN:DAYLIGHT
TZOFFSETFROM:-0600
TZOFFSETTO:-0500
TZNAME:CDT
DTSTART:20240310T080000
END:DAYLIGHT
BEGIN:STANDARD
TZOFFSETFROM:-0500
TZOFFSETTO:-0600
TZNAME:CST
DTSTART:20241103T070000
END:STANDARD
END:VTIMEZONE
BEGIN:VEVENT
DTSTART;TZID=America/Chicago:20230728T120000
DTEND;TZID=America/Chicago:20230728T120000
DTSTAMP:20260422T155855
CREATED:20230713T150859Z
LAST-MODIFIED:20230713T150859Z
UID:10000400-1690545600-1690545600@riverartsalliance.org
SUMMARY:Chill with Will - As You Like It
DESCRIPTION:WSU DuFresne Performing Arts Center | 450 Johnson St.\ngrsf.org/workshop \nStudents age 11-18 can enroll in a FREE workshop prior to each Friday afternoon Great River Shakespeare Festival performance. The festival’s education team will guide them through theater games and activities. Then the group attends the performance together! Past workshops have included backstage tours\, narrated fight call\, and text workshops. \nFriday\, July 28 \nNoon – Theater Workshop\n1:00 – As You Like It \nVisit grsf.coursestorm.com to register! Guardians wishing to accompany a student can purchase a discounted ticket for $20 by calling the GRSF office at 507-474-7900. Learn more.
URL:https://riverartsalliance.org/event/chill-with-will-as-you-like-it/
LOCATION:WSU DuFresne Performing Arts Center\, 450 Johnson St.\, Winona\, MN\, 55987\, United States
END:VEVENT
BEGIN:VEVENT
DTSTART;TZID=America/Chicago:20230728T180000
DTEND;TZID=America/Chicago:20230728T210000
DTSTAMP:20260422T155855
CREATED:20230719T011944Z
LAST-MODIFIED:20230719T011944Z
UID:10000171-1690567200-1690578000@riverartsalliance.org
SUMMARY:Rock the Block Kickoff Party with H3O Jazz Trio
DESCRIPTION:Peter’s Biergarten | 54 E 3rd St.\nH3OJazz.com \nThe Habitat Interfaith Committee is bringing Rock the Block back to Winona! Join us as we kick off this important event on Friday\, July 28th from 6 pm to 9 pm at Peter’s Biergarten downtown! Invite your friends\, family\, and coworkers and support the vital work of affordable housing here in Winona. H3O Jazz Trio will be rocking the block from 6:30 – 8:30 pm. Learn more.
URL:https://riverartsalliance.org/event/rock-the-block-kickoff-party-with-h3o-jazz-trio/
LOCATION:Peter’s Biergarten\, 54 E 3rd St.\, Winona\, MN\, 55987\, United States
END:VEVENT
END:VCALENDAR