BEGIN:VCALENDAR
VERSION:2.0
PRODID:-//River Arts Alliance - ECPv6.15.20//NONSGML v1.0//EN
CALSCALE:GREGORIAN
METHOD:PUBLISH
X-ORIGINAL-URL:https://riverartsalliance.org
X-WR-CALDESC:Events for River Arts Alliance
REFRESH-INTERVAL;VALUE=DURATION:PT1H
X-Robots-Tag:noindex
X-PUBLISHED-TTL:PT1H
BEGIN:VTIMEZONE
TZID:America/Chicago
BEGIN:DAYLIGHT
TZOFFSETFROM:-0600
TZOFFSETTO:-0500
TZNAME:CDT
DTSTART:20220313T080000
END:DAYLIGHT
BEGIN:STANDARD
TZOFFSETFROM:-0500
TZOFFSETTO:-0600
TZNAME:CST
DTSTART:20221106T070000
END:STANDARD
BEGIN:DAYLIGHT
TZOFFSETFROM:-0600
TZOFFSETTO:-0500
TZNAME:CDT
DTSTART:20230312T080000
END:DAYLIGHT
BEGIN:STANDARD
TZOFFSETFROM:-0500
TZOFFSETTO:-0600
TZNAME:CST
DTSTART:20231105T070000
END:STANDARD
BEGIN:DAYLIGHT
TZOFFSETFROM:-0600
TZOFFSETTO:-0500
TZNAME:CDT
DTSTART:20240310T080000
END:DAYLIGHT
BEGIN:STANDARD
TZOFFSETFROM:-0500
TZOFFSETTO:-0600
TZNAME:CST
DTSTART:20241103T070000
END:STANDARD
END:VTIMEZONE
BEGIN:VEVENT
DTSTART;TZID=America/Chicago:20230811T090000
DTEND;TZID=America/Chicago:20230811T160000
DTSTAMP:20260422T141947
CREATED:20230725T025045Z
LAST-MODIFIED:20230725T025045Z
UID:10000186-1691744400-1691769600@riverartsalliance.org
SUMMARY:Watercolor Workshop with Jeff Nelson at Mississippi Mornings
DESCRIPTION:Mississippi Mornings Art Studio | 40341 Lamoille Dr. \nYou asked for it – you got it: Jeff Nelson is coming back for another watercolor workshop “Fur & Feathers” at Mississippi Mornings Art Studio. The workshop will take place from 9 am to 4 pm each day for two days\, August 10th and 11th\, 2023\, and the workshop fee is $225. The La Crosse Society of Arts & Crafts spring workshop with Jeff Nelson at Mississippi Mornings was a huge success…so much so that both participants and Jeff asked to come back for more. See a flyer with more photos here. Contact Linda Klabo by July 22 to register or for more information; email linda@mississippimornings.com or call 507-459-8021.
URL:https://riverartsalliance.org/event/watercolor-workshop-with-jeff-nelson-at-mississippi-mornings/2023-08-11/
LOCATION:Mississippi Mornings Art Studio\, 40341 Lamoille Dr.\, Winona\, MN\, 55987\, United States
END:VEVENT
BEGIN:VEVENT
DTSTART;TZID=America/Chicago:20230811T160000
DTEND;TZID=America/Chicago:20230811T180000
DTSTAMP:20260422T141947
CREATED:20230808T151044Z
LAST-MODIFIED:20230808T151044Z
UID:10000419-1691769600-1691776800@riverartsalliance.org
SUMMARY:Opening Reception - Re-Visioning Winona: Art Show by Patrick Lichty at WCHC
DESCRIPTION:Winona County History Center | 160 Johnson St.\nwinonahistory.org \nWinona artist\, Patrick Lichty\, reimagines the sites around Winona through the machine lens in a new art show opening at the Winona County History Center August 11 with a reception 4:00 – 6:00 pm. \nWinona is a historical town with a rich and storied history\, from its life on the Mississippi River to its many cultures and industry. But how will it be seen in the future? In Re-Visioning Winona\, Artist and WSU professor Patrick Lichty will use drawing machines\, 3D laser scanning\, and Artificial Intelligence to imagine how Winona might look through the machine lens. The exhibit will run through September 24. There will be a brief talk at 5 pm during the opening. Free and open to the public. Learn more.
URL:https://riverartsalliance.org/event/opening-reception-re-visioning-winona-art-show-by-patrick-lichty-at-wchc/
LOCATION:Winona County History Center\, 160 Johnson St\, Winona\, MN\, 55987\, United States
END:VEVENT
BEGIN:VEVENT
DTSTART;TZID=America/Chicago:20230811T180000
DTEND;TZID=America/Chicago:20230811T180000
DTSTAMP:20260422T141947
CREATED:20230808T152416Z
LAST-MODIFIED:20230808T152416Z
UID:10000421-1691776800-1691776800@riverartsalliance.org
SUMMARY:Sugarloaf Theatre Presents Snoopy! The Musical
DESCRIPTION:Winona Arts Center | 228 E 5th St.\nlinktr.ee/sugarloaftheatre \nIf you’re looking for a wholesome\, uplifting\, energetic slice of live family entertainment for all ages\, here’s your opportunity: Snoopy! The Musical presented by Sugarloaf Theatre. Buy tickets and learn more about Sugarloaf Theatre at linktr.ee/sugarloaftheatre. Mark your calendars now. The play can be enjoyed at the Winona Arts Center August 11 and 12 at 6 pm and August 13 at 2 pm. Sugarloaf Theatre’s goal in presenting Snoopy! The Musical is to spread joy\, laughter and kindness throughout our beautiful river town\, and what better way than through the beloved Peanuts’ characters cloaked in music and local talent. Learn more.
URL:https://riverartsalliance.org/event/sugarloaf-theatre-presents-snoopy-the-musical/2023-08-11/
LOCATION:Winona Arts Center\, 228 E 5th St.\, Winona\, MN\, 55987\, United States
END:VEVENT
END:VCALENDAR