BEGIN:VCALENDAR
VERSION:2.0
PRODID:-//River Arts Alliance - ECPv6.15.20//NONSGML v1.0//EN
CALSCALE:GREGORIAN
METHOD:PUBLISH
X-ORIGINAL-URL:https://riverartsalliance.org
X-WR-CALDESC:Events for River Arts Alliance
REFRESH-INTERVAL;VALUE=DURATION:PT1H
X-Robots-Tag:noindex
X-PUBLISHED-TTL:PT1H
BEGIN:VTIMEZONE
TZID:America/Chicago
BEGIN:DAYLIGHT
TZOFFSETFROM:-0600
TZOFFSETTO:-0500
TZNAME:CDT
DTSTART:20220313T080000
END:DAYLIGHT
BEGIN:STANDARD
TZOFFSETFROM:-0500
TZOFFSETTO:-0600
TZNAME:CST
DTSTART:20221106T070000
END:STANDARD
BEGIN:DAYLIGHT
TZOFFSETFROM:-0600
TZOFFSETTO:-0500
TZNAME:CDT
DTSTART:20230312T080000
END:DAYLIGHT
BEGIN:STANDARD
TZOFFSETFROM:-0500
TZOFFSETTO:-0600
TZNAME:CST
DTSTART:20231105T070000
END:STANDARD
BEGIN:DAYLIGHT
TZOFFSETFROM:-0600
TZOFFSETTO:-0500
TZNAME:CDT
DTSTART:20240310T080000
END:DAYLIGHT
BEGIN:STANDARD
TZOFFSETFROM:-0500
TZOFFSETTO:-0600
TZNAME:CST
DTSTART:20241103T070000
END:STANDARD
END:VTIMEZONE
BEGIN:VEVENT
DTSTART;TZID=America/Chicago:20230817T183000
DTEND;TZID=America/Chicago:20230817T200000
DTSTAMP:20260422T141949
CREATED:20230630T171813Z
LAST-MODIFIED:20230808T155849Z
UID:10000372-1692297000-1692302400@riverartsalliance.org
SUMMARY:artsXchange: A Discussion of Foraged\, Found and Recycled Art by Janet Marie Hillis
DESCRIPTION:Minnesota Marine Art Museum | 800 Riverview Dr.\nRegister Here \nThe artsXchange program\, a collaboration between River Arts Alliance (RAA) and the Minnesota Marine Art Museum (MMAM)\, continues on Thursday evening\, August 17 with this discussion led by RAA member and driftwood artist Janet Marie Hillis. \nWhat is foraged\, found and recycled art? It is art that consists of items found in random places\, existing in nature\, and in items that can be recycled. During this discussion\, Janet will present examples of inspirational installations that represent each of these art styles and how it has inspired her as an artist. Come be a part of this event and open your eyes to new possibilities. \nThis event is free to attend for members of RAA or MMAM\, and included with museum admission for others. Registration is required\, and space is limited to 25 attendees per program. Register here. Learn more here.
URL:https://riverartsalliance.org/event/artsxchange-2023-08-17/
LOCATION:Minnesota Marine Art Museum\, 800 Riverview Dr.\, Winona\, MN\, 55987\, United States
END:VEVENT
END:VCALENDAR