BEGIN:VCALENDAR
VERSION:2.0
PRODID:-//River Arts Alliance - ECPv6.15.20//NONSGML v1.0//EN
CALSCALE:GREGORIAN
METHOD:PUBLISH
X-WR-CALNAME:River Arts Alliance
X-ORIGINAL-URL:https://riverartsalliance.org
X-WR-CALDESC:Events for River Arts Alliance
REFRESH-INTERVAL;VALUE=DURATION:PT1H
X-Robots-Tag:noindex
X-PUBLISHED-TTL:PT1H
BEGIN:VTIMEZONE
TZID:America/Chicago
BEGIN:DAYLIGHT
TZOFFSETFROM:-0600
TZOFFSETTO:-0500
TZNAME:CDT
DTSTART:20220313T080000
END:DAYLIGHT
BEGIN:STANDARD
TZOFFSETFROM:-0500
TZOFFSETTO:-0600
TZNAME:CST
DTSTART:20221106T070000
END:STANDARD
BEGIN:DAYLIGHT
TZOFFSETFROM:-0600
TZOFFSETTO:-0500
TZNAME:CDT
DTSTART:20230312T080000
END:DAYLIGHT
BEGIN:STANDARD
TZOFFSETFROM:-0500
TZOFFSETTO:-0600
TZNAME:CST
DTSTART:20231105T070000
END:STANDARD
BEGIN:DAYLIGHT
TZOFFSETFROM:-0600
TZOFFSETTO:-0500
TZNAME:CDT
DTSTART:20240310T080000
END:DAYLIGHT
BEGIN:STANDARD
TZOFFSETFROM:-0500
TZOFFSETTO:-0600
TZNAME:CST
DTSTART:20241103T070000
END:STANDARD
END:VTIMEZONE
BEGIN:VEVENT
DTSTART;TZID=America/Chicago:20230818T190000
DTEND;TZID=America/Chicago:20230818T190000
DTSTAMP:20260422T141849
CREATED:20230808T153401Z
LAST-MODIFIED:20230808T153401Z
UID:10000426-1692385200-1692385200@riverartsalliance.org
SUMMARY:The Good Time Gals Concert at WAC
DESCRIPTION:Winona Arts Center | 228 E 5th St.\nwinonaarts.org \nThe Winona Arts Center is pleased to present The Good Time Gals in concert on August 18\, 2023 at 7 pm. Where good music and good times come together… “The Good Time Gals” is a fresh\, fun\, vintage group with modern sensibilities. Their playful and complex arrangements draw from old blues\, hot club jazz\, western swing\, old country\, and the popular music of the 20s\, 30s\, and 40s. \nMusic starts at 7 pm and the coffeehouse opens at 6 pm. Tickets are $20 in advance and $25 at the door. Advance tickets are available at Hardt’s Music\, 115 East 3rd St.\, or through Eventbrite.com. Learn more.
URL:https://riverartsalliance.org/event/the-good-time-gals-concert-at-wac-2/
LOCATION:Winona Arts Center\, 228 E 5th St.\, Winona\, MN\, 55987\, United States
END:VEVENT
END:VCALENDAR