BEGIN:VCALENDAR
VERSION:2.0
PRODID:-//River Arts Alliance - ECPv6.15.20//NONSGML v1.0//EN
CALSCALE:GREGORIAN
METHOD:PUBLISH
X-WR-CALNAME:River Arts Alliance
X-ORIGINAL-URL:https://riverartsalliance.org
X-WR-CALDESC:Events for River Arts Alliance
REFRESH-INTERVAL;VALUE=DURATION:PT1H
X-Robots-Tag:noindex
X-PUBLISHED-TTL:PT1H
BEGIN:VTIMEZONE
TZID:America/Chicago
BEGIN:DAYLIGHT
TZOFFSETFROM:-0600
TZOFFSETTO:-0500
TZNAME:CDT
DTSTART:20220313T080000
END:DAYLIGHT
BEGIN:STANDARD
TZOFFSETFROM:-0500
TZOFFSETTO:-0600
TZNAME:CST
DTSTART:20221106T070000
END:STANDARD
BEGIN:DAYLIGHT
TZOFFSETFROM:-0600
TZOFFSETTO:-0500
TZNAME:CDT
DTSTART:20230312T080000
END:DAYLIGHT
BEGIN:STANDARD
TZOFFSETFROM:-0500
TZOFFSETTO:-0600
TZNAME:CST
DTSTART:20231105T070000
END:STANDARD
BEGIN:DAYLIGHT
TZOFFSETFROM:-0600
TZOFFSETTO:-0500
TZNAME:CDT
DTSTART:20240310T080000
END:DAYLIGHT
BEGIN:STANDARD
TZOFFSETFROM:-0500
TZOFFSETTO:-0600
TZNAME:CST
DTSTART:20241103T070000
END:STANDARD
END:VTIMEZONE
BEGIN:VEVENT
DTSTART;TZID=America/Chicago:20230819T120000
DTEND;TZID=America/Chicago:20230819T150000
DTSTAMP:20260422T141917
CREATED:20230808T153822Z
LAST-MODIFIED:20230808T153822Z
UID:10000427-1692446400-1692457200@riverartsalliance.org
SUMMARY:Sgraffito Tile Class with Richard Spiller at WAC
DESCRIPTION:Winona Arts Center | 228 E 5th St.\nwinonaarts.org \nRichard Spiller\, local potter\, will present a Sgraffito tile workshop on August 19\, 2023 from noon to 3 pm at the Winona Arts Center\, 228 East 5th Street. Sgraffito (in Italian\, meaning “to scratch”) is a technique produced by applying a drawing to a hard red clay pottery piece and then scratching off parts of the layer to create contrasting images and patterns to reveal the clay color underneath. Cost is $30 for members of WAC and $35 for non-members. To register\, contact Jen Benson at jsbenson50@gmail.com. Learn more.
URL:https://riverartsalliance.org/event/sgraffito-tile-class-with-richard-spiller-at-wac-2/
LOCATION:Winona Arts Center\, 228 E 5th St.\, Winona\, MN\, 55987\, United States
END:VEVENT
BEGIN:VEVENT
DTSTART;TZID=America/Chicago:20230819T140000
DTEND;TZID=America/Chicago:20230819T161500
DTSTAMP:20260422T141917
CREATED:20230814T203353Z
LAST-MODIFIED:20230814T203353Z
UID:10000430-1692453600-1692461700@riverartsalliance.org
SUMMARY:Free Music at Woodlawn
DESCRIPTION:Woodlawn Cemetery | 506 W Lake Blvd. \nAll are welcome to attend an outdoor celebration of Woodlawn Cemetery. Enjoy the beautiful grounds and music by three local groups: Winds of Winona (Ryan Ballanger\, Ruth Bures\, Dr. Frank Bures\, and Chris Buswell); Flutistry (Heidi Bryant\, Janet Heukeshoven\, and Amanda Wenzel); and the Jazz Duo of Margaret Cassidy and Eric Heukeshoven. Musicians will perform near the new historical marker recognizing the 1884 chapel / public mausoleum. This event is sponsored by the McQueen Family. Freewill donations will benefit Woodlawn’s Cemetery Aid 2023 Campaign to maintain the cemetery grounds. Learn more.
URL:https://riverartsalliance.org/event/free-music-at-woodlawn/
LOCATION:Woodlawn Cemetery\, 506 W Lake Blvd.\, Winona\, MN\, 55987\, United States
END:VEVENT
END:VCALENDAR