BEGIN:VCALENDAR
VERSION:2.0
PRODID:-//River Arts Alliance - ECPv6.15.20//NONSGML v1.0//EN
CALSCALE:GREGORIAN
METHOD:PUBLISH
X-WR-CALNAME:River Arts Alliance
X-ORIGINAL-URL:https://riverartsalliance.org
X-WR-CALDESC:Events for River Arts Alliance
REFRESH-INTERVAL;VALUE=DURATION:PT1H
X-Robots-Tag:noindex
X-PUBLISHED-TTL:PT1H
BEGIN:VTIMEZONE
TZID:America/Chicago
BEGIN:DAYLIGHT
TZOFFSETFROM:-0600
TZOFFSETTO:-0500
TZNAME:CDT
DTSTART:20220313T080000
END:DAYLIGHT
BEGIN:STANDARD
TZOFFSETFROM:-0500
TZOFFSETTO:-0600
TZNAME:CST
DTSTART:20221106T070000
END:STANDARD
BEGIN:DAYLIGHT
TZOFFSETFROM:-0600
TZOFFSETTO:-0500
TZNAME:CDT
DTSTART:20230312T080000
END:DAYLIGHT
BEGIN:STANDARD
TZOFFSETFROM:-0500
TZOFFSETTO:-0600
TZNAME:CST
DTSTART:20231105T070000
END:STANDARD
BEGIN:DAYLIGHT
TZOFFSETFROM:-0600
TZOFFSETTO:-0500
TZNAME:CDT
DTSTART:20240310T080000
END:DAYLIGHT
BEGIN:STANDARD
TZOFFSETFROM:-0500
TZOFFSETTO:-0600
TZNAME:CST
DTSTART:20241103T070000
END:STANDARD
END:VTIMEZONE
BEGIN:VEVENT
DTSTART;TZID=America/Chicago:20230820T143000
DTEND;TZID=America/Chicago:20230820T173000
DTSTAMP:20260422T141917
CREATED:20230810T014104Z
LAST-MODIFIED:20230810T014213Z
UID:10000428-1692541800-1692552600@riverartsalliance.org
SUMMARY:August Jazz Jam Supports abra-KID-abra
DESCRIPTION:Island City Brewing Company | 65 E Front St.\nH3OJazz.com \nThe Island City Jazz Jams are all about celebrating our community. On Sunday\, August 20 from 2:30 – 5:30 pm\, H3O Jazz Trio and Island City Brewing Company will dedicate their monthly Jazz Jam fundraiser to abra-KID-abra – a special event celebrating 20 years of Central Lutheran Church Child Care Center serving Winona’s youngest citizens. Island City and H3O will match all donations! \nTo date\, H3O Jazz Trio and Island City Brewing have helped support local nonprofits with over $36\,000 in total donations through the generosity of Jazz Jam patrons! The July Jam raised over $1\,400 for Winona Volunteer Services. Learn more.
URL:https://riverartsalliance.org/event/august-jazz-jam-supports-abra-kid-abra/
LOCATION:Island City Brewing Company\, 65 E Front St\, Winona\, MN\, 55987\, United States
END:VEVENT
END:VCALENDAR