BEGIN:VCALENDAR
VERSION:2.0
PRODID:-//River Arts Alliance - ECPv6.15.20//NONSGML v1.0//EN
CALSCALE:GREGORIAN
METHOD:PUBLISH
X-ORIGINAL-URL:https://riverartsalliance.org
X-WR-CALDESC:Events for River Arts Alliance
REFRESH-INTERVAL;VALUE=DURATION:PT1H
X-Robots-Tag:noindex
X-PUBLISHED-TTL:PT1H
BEGIN:VTIMEZONE
TZID:America/Chicago
BEGIN:DAYLIGHT
TZOFFSETFROM:-0600
TZOFFSETTO:-0500
TZNAME:CDT
DTSTART:20220313T080000
END:DAYLIGHT
BEGIN:STANDARD
TZOFFSETFROM:-0500
TZOFFSETTO:-0600
TZNAME:CST
DTSTART:20221106T070000
END:STANDARD
BEGIN:DAYLIGHT
TZOFFSETFROM:-0600
TZOFFSETTO:-0500
TZNAME:CDT
DTSTART:20230312T080000
END:DAYLIGHT
BEGIN:STANDARD
TZOFFSETFROM:-0500
TZOFFSETTO:-0600
TZNAME:CST
DTSTART:20231105T070000
END:STANDARD
BEGIN:DAYLIGHT
TZOFFSETFROM:-0600
TZOFFSETTO:-0500
TZNAME:CDT
DTSTART:20240310T080000
END:DAYLIGHT
BEGIN:STANDARD
TZOFFSETFROM:-0500
TZOFFSETTO:-0600
TZNAME:CST
DTSTART:20241103T070000
END:STANDARD
END:VTIMEZONE
BEGIN:VEVENT
DTSTART;TZID=America/Chicago:20230902T100000
DTEND;TZID=America/Chicago:20230902T140000
DTSTAMP:20260422T124058
CREATED:20230712T024849Z
LAST-MODIFIED:20230901T031512Z
UID:10000382-1693648800-1693663200@riverartsalliance.org
SUMMARY:Family Art Day 2023
DESCRIPTION:Jaycee Pavilion | Lake Park Dr.\nriverartsalliance.org/FAD \nRiver Arts Alliance’s ever-popular Family Art Day returns to the Saturday of Labor Day weekend\, in the Jaycee Pavilion at Lake Park\, Winona. Kids and families of all ages can try out a variety of hands-on arts activities at stations led by local artists. The event is free and open to all. The list of activities and participating artists for this year is now available here. \nPresented in partnership with the City of Winona Parks and Recreation Department. This activity is made possible by the voters of Minnesota through a grant from the Southeast Minnesota Arts Council thanks to a legislative appropriation from the arts & cultural heritage fund. RAA also thanks Hoff Celebration of Life Center for their sponsorship of Family Art Day 2023. \nLearn more here.
URL:https://riverartsalliance.org/event/family-art-day-2023/
LOCATION:Jaycee Pavilion\, 340 Lake Park Dr.\, Winona\, MN\, 55987\, United States
END:VEVENT
END:VCALENDAR