BEGIN:VCALENDAR
VERSION:2.0
PRODID:-//River Arts Alliance - ECPv6.15.20//NONSGML v1.0//EN
CALSCALE:GREGORIAN
METHOD:PUBLISH
X-ORIGINAL-URL:https://riverartsalliance.org
X-WR-CALDESC:Events for River Arts Alliance
REFRESH-INTERVAL;VALUE=DURATION:PT1H
X-Robots-Tag:noindex
X-PUBLISHED-TTL:PT1H
BEGIN:VTIMEZONE
TZID:America/Chicago
BEGIN:DAYLIGHT
TZOFFSETFROM:-0600
TZOFFSETTO:-0500
TZNAME:CDT
DTSTART:20220313T080000
END:DAYLIGHT
BEGIN:STANDARD
TZOFFSETFROM:-0500
TZOFFSETTO:-0600
TZNAME:CST
DTSTART:20221106T070000
END:STANDARD
BEGIN:DAYLIGHT
TZOFFSETFROM:-0600
TZOFFSETTO:-0500
TZNAME:CDT
DTSTART:20230312T080000
END:DAYLIGHT
BEGIN:STANDARD
TZOFFSETFROM:-0500
TZOFFSETTO:-0600
TZNAME:CST
DTSTART:20231105T070000
END:STANDARD
BEGIN:DAYLIGHT
TZOFFSETFROM:-0600
TZOFFSETTO:-0500
TZNAME:CDT
DTSTART:20240310T080000
END:DAYLIGHT
BEGIN:STANDARD
TZOFFSETFROM:-0500
TZOFFSETTO:-0600
TZNAME:CST
DTSTART:20241103T070000
END:STANDARD
END:VTIMEZONE
BEGIN:VEVENT
DTSTART;TZID=America/Chicago:20230905T190000
DTEND;TZID=America/Chicago:20230905T190000
DTSTAMP:20260422T124059
CREATED:20230901T032158Z
LAST-MODIFIED:20230901T032158Z
UID:10000437-1693940400-1693940400@riverartsalliance.org
SUMMARY:Laureate Writers Series Presents Samuel Hawkins II\, Spoken Word Poet
DESCRIPTION:Blue Heron Coffeehouse | 162 W 2nd St. \nSamuel Hawkins II\, Spoken Word Poet\, will read from his work at the Blue Heron Coffeehouse on September 5th. The reading is free and open to the public and will be followed by a book signing and an open mic. Samuel has performed his work at festivals\, colleges\, and conventions in Tennessee\, Kentucky\, Washington DC\, Tampa Bay\, Vero Beach\, St. Petersburg\, Atlanta\, Baltimore\, Chicago\, Philadelphia\, and Minneapolis. His poetry forces us to see homelessness\, sexual abuse\, relationships\, art\, testimonies\, love\, war\, the light within us\, our potential\, history\, and God. This First Tuesday Laureate Writers Series event is co-sponsored by the Maria W. Faust Sonnet Contest and the Blue Heron Coffeehouse. \nLearn more.
URL:https://riverartsalliance.org/event/laureate-writers-series-presents-samuel-hawkins-ii-spoken-word-poet/
LOCATION:Blue Heron Coffeehouse\, 162 W 2nd St\, Winona\, MN\, 55987\, United States
END:VEVENT
END:VCALENDAR