BEGIN:VCALENDAR
VERSION:2.0
PRODID:-//River Arts Alliance - ECPv6.15.20//NONSGML v1.0//EN
CALSCALE:GREGORIAN
METHOD:PUBLISH
X-WR-CALNAME:River Arts Alliance
X-ORIGINAL-URL:https://riverartsalliance.org
X-WR-CALDESC:Events for River Arts Alliance
REFRESH-INTERVAL;VALUE=DURATION:PT1H
X-Robots-Tag:noindex
X-PUBLISHED-TTL:PT1H
BEGIN:VTIMEZONE
TZID:America/Chicago
BEGIN:DAYLIGHT
TZOFFSETFROM:-0600
TZOFFSETTO:-0500
TZNAME:CDT
DTSTART:20220313T080000
END:DAYLIGHT
BEGIN:STANDARD
TZOFFSETFROM:-0500
TZOFFSETTO:-0600
TZNAME:CST
DTSTART:20221106T070000
END:STANDARD
BEGIN:DAYLIGHT
TZOFFSETFROM:-0600
TZOFFSETTO:-0500
TZNAME:CDT
DTSTART:20230312T080000
END:DAYLIGHT
BEGIN:STANDARD
TZOFFSETFROM:-0500
TZOFFSETTO:-0600
TZNAME:CST
DTSTART:20231105T070000
END:STANDARD
BEGIN:DAYLIGHT
TZOFFSETFROM:-0600
TZOFFSETTO:-0500
TZNAME:CDT
DTSTART:20240310T080000
END:DAYLIGHT
BEGIN:STANDARD
TZOFFSETFROM:-0500
TZOFFSETTO:-0600
TZNAME:CST
DTSTART:20241103T070000
END:STANDARD
END:VTIMEZONE
BEGIN:VEVENT
DTSTART;TZID=America/Chicago:20230907T163000
DTEND;TZID=America/Chicago:20230907T193000
DTSTAMP:20260422T123955
CREATED:20230904T120147Z
LAST-MODIFIED:20230904T120147Z
UID:10000439-1694104200-1694115000@riverartsalliance.org
SUMMARY:MCA Open House & Free-4-All
DESCRIPTION:Minnesota Conservatory for the Arts | 1164 W Howard (10th) St.\ncotterschools.org/mca \nMinnesota Conservatory for the Arts will hold an Open House and Free-4-All event on Thursday\, September 7. Register to try a class for free\, or stop in any time between 4:30 and 7:30. Classes include Creative Movement for 3-5 Year Olds; Ballet & Contemporary Combo for 7-12 Year Olds\, or 13+; Tap / Hip Hop for 7-12 Year Olds; Intro to Theatre and Improv. Register online at cotterschools.org/mca.
URL:https://riverartsalliance.org/event/mca-open-house-free-4-all/
LOCATION:Minnesota Conservatory for the Arts\, 1164 W 10th St.\, Winona\, MN\, United States
END:VEVENT
END:VCALENDAR