BEGIN:VCALENDAR
VERSION:2.0
PRODID:-//River Arts Alliance - ECPv6.15.20//NONSGML v1.0//EN
CALSCALE:GREGORIAN
METHOD:PUBLISH
X-WR-CALNAME:River Arts Alliance
X-ORIGINAL-URL:https://riverartsalliance.org
X-WR-CALDESC:Events for River Arts Alliance
REFRESH-INTERVAL;VALUE=DURATION:PT1H
X-Robots-Tag:noindex
X-PUBLISHED-TTL:PT1H
BEGIN:VTIMEZONE
TZID:America/Chicago
BEGIN:DAYLIGHT
TZOFFSETFROM:-0600
TZOFFSETTO:-0500
TZNAME:CDT
DTSTART:20220313T080000
END:DAYLIGHT
BEGIN:STANDARD
TZOFFSETFROM:-0500
TZOFFSETTO:-0600
TZNAME:CST
DTSTART:20221106T070000
END:STANDARD
BEGIN:DAYLIGHT
TZOFFSETFROM:-0600
TZOFFSETTO:-0500
TZNAME:CDT
DTSTART:20230312T080000
END:DAYLIGHT
BEGIN:STANDARD
TZOFFSETFROM:-0500
TZOFFSETTO:-0600
TZNAME:CST
DTSTART:20231105T070000
END:STANDARD
BEGIN:DAYLIGHT
TZOFFSETFROM:-0600
TZOFFSETTO:-0500
TZNAME:CDT
DTSTART:20240310T080000
END:DAYLIGHT
BEGIN:STANDARD
TZOFFSETFROM:-0500
TZOFFSETTO:-0600
TZNAME:CST
DTSTART:20241103T070000
END:STANDARD
END:VTIMEZONE
BEGIN:VEVENT
DTSTART;TZID=America/Chicago:20230914T090000
DTEND;TZID=America/Chicago:20230914T180000
DTSTAMP:20260422T124009
CREATED:20230909T025304Z
LAST-MODIFIED:20230909T025304Z
UID:10000451-1694682000-1694714400@riverartsalliance.org
SUMMARY:Sounds of the Mississippi River Pool 6
DESCRIPTION:Peter’s Biergarten | 54 E 3rd St.\nlos.st/pool6/ \nFrom September 10th through the 17th\, the sounds of the Mississippi River will be projected into Winona’s downtown Biergarten. Two hydrophones submerged in the water near Levee Park\, will stream the sounds of the river into the Biergarten space during the day. Learn more.
URL:https://riverartsalliance.org/event/sounds-of-the-mississippi-river-pool-6/2023-09-14/
LOCATION:Peter’s Biergarten\, 54 E 3rd St.\, Winona\, MN\, 55987\, United States
END:VEVENT
BEGIN:VEVENT
DTSTART;TZID=America/Chicago:20230914T190000
DTEND;TZID=America/Chicago:20230914T190000
DTSTAMP:20260422T124009
CREATED:20230912T015128Z
LAST-MODIFIED:20230912T015508Z
UID:10000460-1694718000-1694718000@riverartsalliance.org
SUMMARY:Sandbar Storytelling Festival Presents Immigrant Stories with Project FINE
DESCRIPTION:Winona County History Center | 160 Johnson St.\nsandbarstorytellingfestival.org \nSharing the stories that have shaped Winona\, the Sandbar Storytelling Festival\, in partnership with the Winona County History Center\, is continuing its series titled\, “Business and Immigrant Stories of Winona.” The September 14 event features Project FINE. Project FINE (Focus on Integrating Newcomers through Education) has been serving refugees and immigrants in Winona County and the surrounding area since 1990. Hear the personal and inspirational stories of immigrants who have chosen to call Winona home. As admission is free but limited\, please register online at www.sandbarstorytellingfestival.org. Learn more.
URL:https://riverartsalliance.org/event/sandbar-storytelling-festival-presents-immigrant-stories-with-project-fine/
LOCATION:Winona County History Center\, 160 Johnson St\, Winona\, MN\, 55987\, United States
END:VEVENT
END:VCALENDAR