BEGIN:VCALENDAR
VERSION:2.0
PRODID:-//River Arts Alliance - ECPv6.15.20//NONSGML v1.0//EN
CALSCALE:GREGORIAN
METHOD:PUBLISH
X-WR-CALNAME:River Arts Alliance
X-ORIGINAL-URL:https://riverartsalliance.org
X-WR-CALDESC:Events for River Arts Alliance
REFRESH-INTERVAL;VALUE=DURATION:PT1H
X-Robots-Tag:noindex
X-PUBLISHED-TTL:PT1H
BEGIN:VTIMEZONE
TZID:America/Chicago
BEGIN:DAYLIGHT
TZOFFSETFROM:-0600
TZOFFSETTO:-0500
TZNAME:CDT
DTSTART:20220313T080000
END:DAYLIGHT
BEGIN:STANDARD
TZOFFSETFROM:-0500
TZOFFSETTO:-0600
TZNAME:CST
DTSTART:20221106T070000
END:STANDARD
BEGIN:DAYLIGHT
TZOFFSETFROM:-0600
TZOFFSETTO:-0500
TZNAME:CDT
DTSTART:20230312T080000
END:DAYLIGHT
BEGIN:STANDARD
TZOFFSETFROM:-0500
TZOFFSETTO:-0600
TZNAME:CST
DTSTART:20231105T070000
END:STANDARD
BEGIN:DAYLIGHT
TZOFFSETFROM:-0600
TZOFFSETTO:-0500
TZNAME:CDT
DTSTART:20240310T080000
END:DAYLIGHT
BEGIN:STANDARD
TZOFFSETFROM:-0500
TZOFFSETTO:-0600
TZNAME:CST
DTSTART:20241103T070000
END:STANDARD
END:VTIMEZONE
BEGIN:VEVENT
DTSTART;TZID=America/Chicago:20230915T090000
DTEND;TZID=America/Chicago:20230915T180000
DTSTAMP:20260422T124010
CREATED:20230909T025304Z
LAST-MODIFIED:20230909T025304Z
UID:10000452-1694768400-1694800800@riverartsalliance.org
SUMMARY:Sounds of the Mississippi River Pool 6
DESCRIPTION:Peter’s Biergarten | 54 E 3rd St.\nlos.st/pool6/ \nFrom September 10th through the 17th\, the sounds of the Mississippi River will be projected into Winona’s downtown Biergarten. Two hydrophones submerged in the water near Levee Park\, will stream the sounds of the river into the Biergarten space during the day. Learn more.
URL:https://riverartsalliance.org/event/sounds-of-the-mississippi-river-pool-6/2023-09-15/
LOCATION:Peter’s Biergarten\, 54 E 3rd St.\, Winona\, MN\, 55987\, United States
END:VEVENT
BEGIN:VEVENT
DTSTART;TZID=America/Chicago:20230915T170000
DTEND;TZID=America/Chicago:20230915T190000
DTSTAMP:20260422T124010
CREATED:20230912T020705Z
LAST-MODIFIED:20230912T020705Z
UID:10000462-1694797200-1694804400@riverartsalliance.org
SUMMARY:Opening Reception - Dan Grimslid Art Show at the Blue Heron
DESCRIPTION:Blue Heron Coffeehouse | 162 W 2nd St.\nblueheroncoffeehouse.com \nThe next art show at the Blue Heron Coffeehouse will feature the work of artist Dan Grimslid and will run from September 13 through November 5\, 2023. An opening reception will be held on Friday\, September 15\, from 5 to 7 pm. The reception is free and open to the public and light refreshments will be provided.
URL:https://riverartsalliance.org/event/opening-reception-dan-grimslid-art-show-at-the-blue-heron/
LOCATION:Blue Heron Coffeehouse\, 162 W 2nd St\, Winona\, MN\, 55987\, United States
END:VEVENT
BEGIN:VEVENT
DTSTART;TZID=America/Chicago:20230915T193000
DTEND;TZID=America/Chicago:20230915T193000
DTSTAMP:20260422T124010
CREATED:20230912T020226Z
LAST-MODIFIED:20230912T020226Z
UID:10000461-1694806200-1694806200@riverartsalliance.org
SUMMARY:The Rime of the Ancient Mariner Revived
DESCRIPTION:Minnesota Marine Art Museum | 800 Riverview Dr.\nmmam.org \nColeridge’s The Rime of the Ancient Mariner will be presented as a dramatic reading with musical accompaniment and gallery projections of the original illustrations by Gustave Doré at the Minnesota Marine Art Museum on Friday\, September 15th. \nThis event is part of The Big Catch First Look Preview Party. Ken McCullough is the principal reader; Luke Thering is music director\, composer and piano; Rachael Ryan\, cello; Hans Heukeshoven\, drums and percussion; Bob Stuber & Jim Reineke\, sound; Orion McCullough-Smith\, projectionist; Judy Myers\, director; Dr. Emilio DeGrazia\, introduction. Learn more.
URL:https://riverartsalliance.org/event/the-rime-of-the-ancient-mariner-revived/
LOCATION:Minnesota Marine Art Museum\, 800 Riverview Dr.\, Winona\, MN\, 55987\, United States
END:VEVENT
END:VCALENDAR