BEGIN:VCALENDAR
VERSION:2.0
PRODID:-//River Arts Alliance - ECPv6.15.20//NONSGML v1.0//EN
CALSCALE:GREGORIAN
METHOD:PUBLISH
X-WR-CALNAME:River Arts Alliance
X-ORIGINAL-URL:https://riverartsalliance.org
X-WR-CALDESC:Events for River Arts Alliance
REFRESH-INTERVAL;VALUE=DURATION:PT1H
X-Robots-Tag:noindex
X-PUBLISHED-TTL:PT1H
BEGIN:VTIMEZONE
TZID:America/Chicago
BEGIN:DAYLIGHT
TZOFFSETFROM:-0600
TZOFFSETTO:-0500
TZNAME:CDT
DTSTART:20220313T080000
END:DAYLIGHT
BEGIN:STANDARD
TZOFFSETFROM:-0500
TZOFFSETTO:-0600
TZNAME:CST
DTSTART:20221106T070000
END:STANDARD
BEGIN:DAYLIGHT
TZOFFSETFROM:-0600
TZOFFSETTO:-0500
TZNAME:CDT
DTSTART:20230312T080000
END:DAYLIGHT
BEGIN:STANDARD
TZOFFSETFROM:-0500
TZOFFSETTO:-0600
TZNAME:CST
DTSTART:20231105T070000
END:STANDARD
BEGIN:DAYLIGHT
TZOFFSETFROM:-0600
TZOFFSETTO:-0500
TZNAME:CDT
DTSTART:20240310T080000
END:DAYLIGHT
BEGIN:STANDARD
TZOFFSETFROM:-0500
TZOFFSETTO:-0600
TZNAME:CST
DTSTART:20241103T070000
END:STANDARD
END:VTIMEZONE
BEGIN:VEVENT
DTSTART;TZID=America/Chicago:20230916T090000
DTEND;TZID=America/Chicago:20230916T180000
DTSTAMP:20260422T123951
CREATED:20230909T025304Z
LAST-MODIFIED:20230909T025304Z
UID:10000453-1694854800-1694887200@riverartsalliance.org
SUMMARY:Sounds of the Mississippi River Pool 6
DESCRIPTION:Peter’s Biergarten | 54 E 3rd St.\nlos.st/pool6/ \nFrom September 10th through the 17th\, the sounds of the Mississippi River will be projected into Winona’s downtown Biergarten. Two hydrophones submerged in the water near Levee Park\, will stream the sounds of the river into the Biergarten space during the day. Learn more.
URL:https://riverartsalliance.org/event/sounds-of-the-mississippi-river-pool-6/2023-09-16/
LOCATION:Peter’s Biergarten\, 54 E 3rd St.\, Winona\, MN\, 55987\, United States
END:VEVENT
BEGIN:VEVENT
DTSTART;TZID=America/Chicago:20230916T190000
DTEND;TZID=America/Chicago:20230916T190000
DTSTAMP:20260422T123951
CREATED:20230912T021324Z
LAST-MODIFIED:20230912T021324Z
UID:10000463-1694890800-1694890800@riverartsalliance.org
SUMMARY:Ray Bonneville Concert at WAC
DESCRIPTION:Winona Arts Center | 228 E 5th St.\nwinonaarts.org \nThe Winona Arts Center presents a concert by Ray Bonneville on Saturday\, September 16. National touring singer-songwriter Ray Bonneville is a blues poet of the demimonde. His acclaimed performance groove is the product of a unique\, electric guitar style\, unrivaled harmonica tone\, smoky vocal and unwavering foot percussion. A native French Canadian and Juno Award winner\, Ray is a celebrated songwriter and lives in Austin\, Texas. Advance tickets can be purchased at Hardt’s Music\, 115 East 3rd St. in Winona\, or online via Eventbrite. Learn more.
URL:https://riverartsalliance.org/event/ray-bonneville-concert-at-wac/
LOCATION:Winona Arts Center\, 228 E 5th St.\, Winona\, MN\, 55987\, United States
END:VEVENT
END:VCALENDAR