BEGIN:VCALENDAR
VERSION:2.0
PRODID:-//River Arts Alliance - ECPv6.15.20//NONSGML v1.0//EN
CALSCALE:GREGORIAN
METHOD:PUBLISH
X-ORIGINAL-URL:https://riverartsalliance.org
X-WR-CALDESC:Events for River Arts Alliance
REFRESH-INTERVAL;VALUE=DURATION:PT1H
X-Robots-Tag:noindex
X-PUBLISHED-TTL:PT1H
BEGIN:VTIMEZONE
TZID:America/Chicago
BEGIN:DAYLIGHT
TZOFFSETFROM:-0600
TZOFFSETTO:-0500
TZNAME:CDT
DTSTART:20220313T080000
END:DAYLIGHT
BEGIN:STANDARD
TZOFFSETFROM:-0500
TZOFFSETTO:-0600
TZNAME:CST
DTSTART:20221106T070000
END:STANDARD
BEGIN:DAYLIGHT
TZOFFSETFROM:-0600
TZOFFSETTO:-0500
TZNAME:CDT
DTSTART:20230312T080000
END:DAYLIGHT
BEGIN:STANDARD
TZOFFSETFROM:-0500
TZOFFSETTO:-0600
TZNAME:CST
DTSTART:20231105T070000
END:STANDARD
BEGIN:DAYLIGHT
TZOFFSETFROM:-0600
TZOFFSETTO:-0500
TZNAME:CDT
DTSTART:20240310T080000
END:DAYLIGHT
BEGIN:STANDARD
TZOFFSETFROM:-0500
TZOFFSETTO:-0600
TZNAME:CST
DTSTART:20241103T070000
END:STANDARD
END:VTIMEZONE
BEGIN:VEVENT
DTSTART;TZID=America/Chicago:20230921T183000
DTEND;TZID=America/Chicago:20230921T200000
DTSTAMP:20260422T124058
CREATED:20230630T171813Z
LAST-MODIFIED:20230919T135424Z
UID:10000373-1695321000-1695326400@riverartsalliance.org
SUMMARY:artsXchange with Amanda Blue
DESCRIPTION:Minnesota Marine Art Museum | 800 Riverview Dr.\nRegister Here \nThe artsXchange program\, a collaboration between River Arts Alliance (RAA) and the Minnesota Marine Art Museum (MMAM)\, continues with this event led by soprano and RAA member Amanda Blue. \nWhat if every rule\, lesson\, practice about music flipped upside down… How would that shape the way that you think about music and the practice of music? Well\, American composer John Cage did just that and more. “A pioneer of indeterminacy in music\, electroacoustic music\, and non-standard use of musical instruments\, Cage was one of the leading figures of the post-war avant-garde.” For this lecture\, Amanda Blue will be performing one of his famous vocal pieces named “Aria.” Through the performance and analysis of this piece\, along with a few others\, we will unpack the unique characteristics that make Cage’s works paint a picture of American contemporary music. \nHost Amanda Blue is a professional Opera singer currently based in the Midwest. This event is free to attend for members of RAA or MMAM\, and included with museum admission for others. Registration is required\, and space is limited to 25 attendees. Learn more.
URL:https://riverartsalliance.org/event/artsxchange-2023-09-21/
LOCATION:Minnesota Marine Art Museum\, 800 Riverview Dr.\, Winona\, MN\, 55987\, United States
END:VEVENT
END:VCALENDAR