BEGIN:VCALENDAR
VERSION:2.0
PRODID:-//River Arts Alliance - ECPv6.15.20//NONSGML v1.0//EN
CALSCALE:GREGORIAN
METHOD:PUBLISH
X-WR-CALNAME:River Arts Alliance
X-ORIGINAL-URL:https://riverartsalliance.org
X-WR-CALDESC:Events for River Arts Alliance
REFRESH-INTERVAL;VALUE=DURATION:PT1H
X-Robots-Tag:noindex
X-PUBLISHED-TTL:PT1H
BEGIN:VTIMEZONE
TZID:America/Chicago
BEGIN:DAYLIGHT
TZOFFSETFROM:-0600
TZOFFSETTO:-0500
TZNAME:CDT
DTSTART:20220313T080000
END:DAYLIGHT
BEGIN:STANDARD
TZOFFSETFROM:-0500
TZOFFSETTO:-0600
TZNAME:CST
DTSTART:20221106T070000
END:STANDARD
BEGIN:DAYLIGHT
TZOFFSETFROM:-0600
TZOFFSETTO:-0500
TZNAME:CDT
DTSTART:20230312T080000
END:DAYLIGHT
BEGIN:STANDARD
TZOFFSETFROM:-0500
TZOFFSETTO:-0600
TZNAME:CST
DTSTART:20231105T070000
END:STANDARD
BEGIN:DAYLIGHT
TZOFFSETFROM:-0600
TZOFFSETTO:-0500
TZNAME:CDT
DTSTART:20240310T080000
END:DAYLIGHT
BEGIN:STANDARD
TZOFFSETFROM:-0500
TZOFFSETTO:-0600
TZNAME:CST
DTSTART:20241103T070000
END:STANDARD
END:VTIMEZONE
BEGIN:VEVENT
DTSTART;TZID=America/Chicago:20230923T100000
DTEND;TZID=America/Chicago:20230923T120000
DTSTAMP:20260422T123951
CREATED:20230919T140941Z
LAST-MODIFIED:20230919T140941Z
UID:10000209-1695463200-1695470400@riverartsalliance.org
SUMMARY:Auditions: Amahl & the Night Visitors
DESCRIPTION:Faith Lutheran Church | 1717 W Service Dr.\nfclwinona.org \nAuditions are being held at Faith Lutheran Church for a production of Amahl & the Night Visitors\, Gian Carlo Menotti’s beautiful\, warm\, beloved hour-long opera. There are six leading roles: Amahl (a soprano about 10 years old)\, his mother (a soprano\, 30s)\, the three kings (all adult men\, a tenor\, baritone\, and baritone/bass) and the kings’ page (18 or older\, a baritone). A choir of 20 – 30 shepherds (SATB\, ages 10 through adults)\, also plays an important part in the show. We’re looking for people who love to sing and build community. The music is simple\, rich and melodic. Leading roles require strong singers. Rehearsals will be held at Faith Lutheran Church during October and November. To be considered for a part\, you MUST be available for the production dates\, Dec. 8th\, 9th and 10th and the dress rehearsal\, December 7th. Learn more.
URL:https://riverartsalliance.org/event/auditions-amahl-the-night-visitors/2023-09-23/
LOCATION:Faith Lutheran Church\, 1717 W Service Dr.\, Winona\, MN\, 55987\, United States
END:VEVENT
BEGIN:VEVENT
DTSTART;TZID=America/Chicago:20230923T120000
DTEND;TZID=America/Chicago:20230923T150000
DTSTAMP:20260422T123951
CREATED:20230919T135900Z
LAST-MODIFIED:20230919T135900Z
UID:10000206-1695470400-1695481200@riverartsalliance.org
SUMMARY:Pinch Pot and Coiling Pottery Class at WAC
DESCRIPTION:Winona Arts Center | 228 E 5th St.\nwinonaarts.org \nThe Winona Arts Center is pleased to offer a pinch pot and coiling pottery workshop led by potter Richard Spiller on September 23. This class is open for children age 12 and up and adults. Participants will make small vessels using balls of clay to form pinch pots and using a hand building method of forming pottery by building up walls with rope-like coils of clay. Cost is $25 for children ages 12 to 16\, $30 for WAC members\, and $35 for non-members. Learn more.
URL:https://riverartsalliance.org/event/pinch-pot-and-coiling-pottery-class-at-wac/
LOCATION:Winona Arts Center\, 228 E 5th St.\, Winona\, MN\, 55987\, United States
END:VEVENT
BEGIN:VEVENT
DTSTART;TZID=America/Chicago:20230923T190000
DTEND;TZID=America/Chicago:20230923T190000
DTSTAMP:20260422T123951
CREATED:20230919T140222Z
LAST-MODIFIED:20230919T140222Z
UID:10000207-1695495600-1695495600@riverartsalliance.org
SUMMARY:Bach Society of Minnesota at Central Lutheran
DESCRIPTION:Central Lutheran Church | 259 W Wabasha St. \nOn Saturday\, September 23\, Central Lutheran will welcome the Bach Society of Minnesota back to Winona. “Voices from Heaven” features the music of Bach\, Telemann\, Handel\, and Lully. The famous 4th Brandenburg Concerto sets the tone for the concert with breathtaking arias and concertos by some of the most beloved composers of the Baroque era. Performers include special guest artist Matthew Shorten\, tenor; Matthias Maute\, recorder; Clea Galhano\, recorder; Margaret Humphrey\, violin; and members of the Orchestra of the Bach Society of Minnesota. Tickets are $20 for adults and $5 for students. Patrons are encouraged to purchase tickets in advance through Eventbrite here. Learn more.
URL:https://riverartsalliance.org/event/bach-society-of-minnesota-at-central-lutheran/
LOCATION:Central Lutheran Church\, 259 W Wabasha St.\, Winona\, MN\, 55987\, United States
END:VEVENT
END:VCALENDAR