BEGIN:VCALENDAR
VERSION:2.0
PRODID:-//River Arts Alliance - ECPv6.15.20//NONSGML v1.0//EN
CALSCALE:GREGORIAN
METHOD:PUBLISH
X-ORIGINAL-URL:https://riverartsalliance.org
X-WR-CALDESC:Events for River Arts Alliance
REFRESH-INTERVAL;VALUE=DURATION:PT1H
X-Robots-Tag:noindex
X-PUBLISHED-TTL:PT1H
BEGIN:VTIMEZONE
TZID:America/Chicago
BEGIN:DAYLIGHT
TZOFFSETFROM:-0600
TZOFFSETTO:-0500
TZNAME:CDT
DTSTART:20220313T080000
END:DAYLIGHT
BEGIN:STANDARD
TZOFFSETFROM:-0500
TZOFFSETTO:-0600
TZNAME:CST
DTSTART:20221106T070000
END:STANDARD
BEGIN:DAYLIGHT
TZOFFSETFROM:-0600
TZOFFSETTO:-0500
TZNAME:CDT
DTSTART:20230312T080000
END:DAYLIGHT
BEGIN:STANDARD
TZOFFSETFROM:-0500
TZOFFSETTO:-0600
TZNAME:CST
DTSTART:20231105T070000
END:STANDARD
BEGIN:DAYLIGHT
TZOFFSETFROM:-0600
TZOFFSETTO:-0500
TZNAME:CDT
DTSTART:20240310T080000
END:DAYLIGHT
BEGIN:STANDARD
TZOFFSETFROM:-0500
TZOFFSETTO:-0600
TZNAME:CST
DTSTART:20241103T070000
END:STANDARD
END:VTIMEZONE
BEGIN:VEVENT
DTSTART;TZID=America/Chicago:20230928T100000
DTEND;TZID=America/Chicago:20230928T170000
DTSTAMP:20260422T124100
CREATED:20230728T181039Z
LAST-MODIFIED:20230730T023357Z
UID:10000190-1695895200-1695920400@riverartsalliance.org
SUMMARY:Plein Air Group Invitational Exhibition
DESCRIPTION:Group Invitational Exhibition by Featured Plein Air Artists | Thursday\, Sept. 28 through Sunday\, Oct. 1 | 10 am to 5 pm each day | Atrium at MMAM \nTwelve of the finest plein air painters in Minnesota and Wisconsin have been invited to exhibit a selection of their works in the atrium at the Minnesota Marine Art Museum (MMAM) during Flora & Fauna – The Plein Air Experience\, 2023. Many of the works featured will be for sale. This atrium exhibition can be visited for free\, but admission charges apply to the rest of the MMAM galleries (museum admission is free for students on Thursdays). \nSee the list of featured artists here. \nSee the schedule of events and more information about Flora & Fauna – The Plein Air Experience\, 2023 here. \nThis activity is made possible by the voters of Minnesota through a grant from the Minnesota State Arts Board\, thanks to a legislative appropriation from the arts and cultural heritage fund.
URL:https://riverartsalliance.org/event/plein-air-group-invitational-exhibition/2023-09-28/
LOCATION:Minnesota Marine Art Museum\, 800 Riverview Dr.\, Winona\, MN\, 55987\, United States
END:VEVENT
BEGIN:VEVENT
DTSTART;TZID=America/Chicago:20230928T173000
DTEND;TZID=America/Chicago:20230928T210000
DTSTAMP:20260422T124100
CREATED:20230925T185013Z
LAST-MODIFIED:20230925T185013Z
UID:10000220-1695922200-1695934800@riverartsalliance.org
SUMMARY:Joan Porter-Einsman in NEMAA 10×10 Event
DESCRIPTION:VIP Experience 5:30-7 pm | General Admission 7-9 pm\nTheatre in the Round | 245 Cedar Ave. | Minneapolis\, MN\nnemaa.org \nRiver Arts Alliance member Joan Porter-Einsman is a participating artist in the Northeast Minneapolis Arts Association (NEMAA) 10×10 and 10×10+ annual fundraiser\, which includes an in-person event on Thursday\, September 28 and an online artwork sale. Learn more.
URL:https://riverartsalliance.org/event/joan-porter-einsman-in-nemaa-10x10-event/
LOCATION:Theatre in the Round\, 245 Cedar Ave.\, Minneapolis\, MN\, 55454\, United States
END:VEVENT
BEGIN:VEVENT
DTSTART;TZID=America/Chicago:20230928T183000
DTEND;TZID=America/Chicago:20230928T203000
DTSTAMP:20260422T124100
CREATED:20230728T184255Z
LAST-MODIFIED:20230730T023435Z
UID:10000402-1695925800-1695933000@riverartsalliance.org
SUMMARY:Opening Reception: Flora & Fauna - The Plein Air Experience\, 2023
DESCRIPTION:7-8:30 pm\, doors open at 6:30 pm. \nMeet the artists participating in the plein air invitational exhibition at a public opening reception at the Minnesota Marine Art Museum (MMAM) on Thursday evening\, September 28. The program will include a conversation with master artists and workshop instructors Kami Mendlik\, Fred Somers\, and David R. Smith\, facilitated by MMAM Executive Director Scott Pollock. A cash bar will be available. The event is free and open to the public; no registration required. \nSee the list of featured artists for the exhibition here. \nSee the schedule of events and more information about Flora & Fauna – The Plein Air Experience\, 2023 here. \nThis activity is made possible by the voters of Minnesota through a grant from the Minnesota State Arts Board\, thanks to a legislative appropriation from the arts and cultural heritage fund.
URL:https://riverartsalliance.org/event/opening-reception-flora-fauna-the-plein-air-experience-2023/
LOCATION:Minnesota Marine Art Museum\, 800 Riverview Dr.\, Winona\, MN\, 55987\, United States
END:VEVENT
END:VCALENDAR