BEGIN:VCALENDAR
VERSION:2.0
PRODID:-//River Arts Alliance - ECPv6.15.20//NONSGML v1.0//EN
CALSCALE:GREGORIAN
METHOD:PUBLISH
X-ORIGINAL-URL:https://riverartsalliance.org
X-WR-CALDESC:Events for River Arts Alliance
REFRESH-INTERVAL;VALUE=DURATION:PT1H
X-Robots-Tag:noindex
X-PUBLISHED-TTL:PT1H
BEGIN:VTIMEZONE
TZID:America/Chicago
BEGIN:DAYLIGHT
TZOFFSETFROM:-0600
TZOFFSETTO:-0500
TZNAME:CDT
DTSTART:20220313T080000
END:DAYLIGHT
BEGIN:STANDARD
TZOFFSETFROM:-0500
TZOFFSETTO:-0600
TZNAME:CST
DTSTART:20221106T070000
END:STANDARD
BEGIN:DAYLIGHT
TZOFFSETFROM:-0600
TZOFFSETTO:-0500
TZNAME:CDT
DTSTART:20230312T080000
END:DAYLIGHT
BEGIN:STANDARD
TZOFFSETFROM:-0500
TZOFFSETTO:-0600
TZNAME:CST
DTSTART:20231105T070000
END:STANDARD
BEGIN:DAYLIGHT
TZOFFSETFROM:-0600
TZOFFSETTO:-0500
TZNAME:CDT
DTSTART:20240310T080000
END:DAYLIGHT
BEGIN:STANDARD
TZOFFSETFROM:-0500
TZOFFSETTO:-0600
TZNAME:CST
DTSTART:20241103T070000
END:STANDARD
END:VTIMEZONE
BEGIN:VEVENT
DTSTART;TZID=America/Chicago:20231001T090000
DTEND;TZID=America/Chicago:20231001T100000
DTSTAMP:20260422T111506
CREATED:20230730T014547Z
LAST-MODIFIED:20230730T024012Z
UID:10000410-1696150800-1696154400@riverartsalliance.org
SUMMARY:Off-The-Easel Share-In & Closing Social 
DESCRIPTION:Oberton Education Room at Minnesota Marine Art Museum \nBefore visiting Flora & Fauna – The Plein Air Experience\, 2023 participants head home from Winona\, featured artists\, workshop instructors and students\, art patrons and the general public are all invited to gather once more at MMAM for a closing social. Set up your easels to show off some of what you’ve learned and created during the weekend! Some works painted in Winona by participating artists during The Plein Air Experience may be available for sale by arrangement with the individual artists. Coffee\, tea\, and baked goods will be provided. \nSee the schedule of events and more information about Flora & Fauna – The Plein Air Experience\, 2023 here. \nThis activity is made possible by the voters of Minnesota through a grant from the Minnesota State Arts Board\, thanks to a legislative appropriation from the arts and cultural heritage fund.
URL:https://riverartsalliance.org/event/off-the-easel-share-in-closing-social/
LOCATION:Minnesota Marine Art Museum\, 800 Riverview Dr.\, Winona\, MN\, 55987\, United States
END:VEVENT
BEGIN:VEVENT
DTSTART;TZID=America/Chicago:20231001T100000
DTEND;TZID=America/Chicago:20231001T170000
DTSTAMP:20260422T111506
CREATED:20230728T181039Z
LAST-MODIFIED:20230730T023357Z
UID:10000193-1696154400-1696179600@riverartsalliance.org
SUMMARY:Plein Air Group Invitational Exhibition
DESCRIPTION:Group Invitational Exhibition by Featured Plein Air Artists | Thursday\, Sept. 28 through Sunday\, Oct. 1 | 10 am to 5 pm each day | Atrium at MMAM \nTwelve of the finest plein air painters in Minnesota and Wisconsin have been invited to exhibit a selection of their works in the atrium at the Minnesota Marine Art Museum (MMAM) during Flora & Fauna – The Plein Air Experience\, 2023. Many of the works featured will be for sale. This atrium exhibition can be visited for free\, but admission charges apply to the rest of the MMAM galleries (museum admission is free for students on Thursdays). \nSee the list of featured artists here. \nSee the schedule of events and more information about Flora & Fauna – The Plein Air Experience\, 2023 here. \nThis activity is made possible by the voters of Minnesota through a grant from the Minnesota State Arts Board\, thanks to a legislative appropriation from the arts and cultural heritage fund.
URL:https://riverartsalliance.org/event/plein-air-group-invitational-exhibition/2023-10-01/
LOCATION:Minnesota Marine Art Museum\, 800 Riverview Dr.\, Winona\, MN\, 55987\, United States
END:VEVENT
BEGIN:VEVENT
DTSTART;TZID=America/Chicago:20231001T140000
DTEND;TZID=America/Chicago:20231001T140000
DTSTAMP:20260422T111506
CREATED:20230919T142419Z
LAST-MODIFIED:20230919T142419Z
UID:10000215-1696168800-1696168800@riverartsalliance.org
SUMMARY:Theatre du Mississippi Presents Return Engagement by Kathleen Kenney-Peterson
DESCRIPTION:Valencia Arts Center | 1164 W Howard St.\ntheatredumiss.org \nTheatre du Mississippi is pleased to kick-off its 25th anniversary season with Return Engagement\, a work by local playwright Kathleen Kenney-Peterson. Michael Fitzpatrick\, a favorite actor of Winona’s Great River Shakespeare Festival\, will play the lead role. The play tells the story of Richard\, a gay New York stage actor who has developed multiple sclerosis and is forced to move back to his small Minnesota hometown. Tickets are $15 online at Eventbrite\, $15 cash or check at Chapter 2 Books (125 E 3rd St.\, Winona)\, and No Name Bar (252 E 3rd St.\, Winona)\, or $20 at the door. Following the October 8 performance will be a panel discussion about caregiving\, with representatives from Winona Health and Eldercare. Learn more.
URL:https://riverartsalliance.org/event/theatre-du-mississippi-presents-return-engagement-by-kathleen-kenney-peterson/2023-10-01/
LOCATION:Minnesota Conservatory for the Arts\, 1164 W 10th St.\, Winona\, MN\, United States
END:VEVENT
END:VCALENDAR