BEGIN:VCALENDAR
VERSION:2.0
PRODID:-//River Arts Alliance - ECPv6.15.20//NONSGML v1.0//EN
CALSCALE:GREGORIAN
METHOD:PUBLISH
X-WR-CALNAME:River Arts Alliance
X-ORIGINAL-URL:https://riverartsalliance.org
X-WR-CALDESC:Events for River Arts Alliance
REFRESH-INTERVAL;VALUE=DURATION:PT1H
X-Robots-Tag:noindex
X-PUBLISHED-TTL:PT1H
BEGIN:VTIMEZONE
TZID:America/Chicago
BEGIN:DAYLIGHT
TZOFFSETFROM:-0600
TZOFFSETTO:-0500
TZNAME:CDT
DTSTART:20220313T080000
END:DAYLIGHT
BEGIN:STANDARD
TZOFFSETFROM:-0500
TZOFFSETTO:-0600
TZNAME:CST
DTSTART:20221106T070000
END:STANDARD
BEGIN:DAYLIGHT
TZOFFSETFROM:-0600
TZOFFSETTO:-0500
TZNAME:CDT
DTSTART:20230312T080000
END:DAYLIGHT
BEGIN:STANDARD
TZOFFSETFROM:-0500
TZOFFSETTO:-0600
TZNAME:CST
DTSTART:20231105T070000
END:STANDARD
BEGIN:DAYLIGHT
TZOFFSETFROM:-0600
TZOFFSETTO:-0500
TZNAME:CDT
DTSTART:20240310T080000
END:DAYLIGHT
BEGIN:STANDARD
TZOFFSETFROM:-0500
TZOFFSETTO:-0600
TZNAME:CST
DTSTART:20241103T070000
END:STANDARD
END:VTIMEZONE
BEGIN:VEVENT
DTSTART;TZID=America/Chicago:20231005T180000
DTEND;TZID=America/Chicago:20231005T180000
DTSTAMP:20260422T111407
CREATED:20230925T224837Z
LAST-MODIFIED:20230925T224837Z
UID:10000471-1696528800-1696528800@riverartsalliance.org
SUMMARY:Voices From the Past Cemetery Walk - Indoor Accessible Performance
DESCRIPTION:Winona County History Center | 160 Johnson St.\nwinonahistory.org \nThe Winona County Historical Society’s fall fundraiser event\, Voices From the Past Cemetery Walk will highlight what has been and still is Made in Winona! this year. Take a walk into the past with stories of Winona County brought to life with community actors in beautiful Woodlawn Cemetery. Allow about 1.5 to 2 hours to take the self-guided tour on October 7 or 8. Cannot make The Walk? Then head to the indoor accessible performance of all the sites at the History Center on October 5 at 6 p.m. Voices From the Past is sponsored by Merchants Bank. Admission: $10 Adults\, $5 Students\, $3 Youth 12 to 4 years old. Learn more.
URL:https://riverartsalliance.org/event/voices-from-the-past-cemetery-walk-indoor-accessible-performance/
LOCATION:Winona County History Center\, 160 Johnson St\, Winona\, MN\, 55987\, United States
END:VEVENT
END:VCALENDAR