BEGIN:VCALENDAR
VERSION:2.0
PRODID:-//River Arts Alliance - ECPv6.15.20//NONSGML v1.0//EN
CALSCALE:GREGORIAN
METHOD:PUBLISH
X-WR-CALNAME:River Arts Alliance
X-ORIGINAL-URL:https://riverartsalliance.org
X-WR-CALDESC:Events for River Arts Alliance
REFRESH-INTERVAL;VALUE=DURATION:PT1H
X-Robots-Tag:noindex
X-PUBLISHED-TTL:PT1H
BEGIN:VTIMEZONE
TZID:America/Chicago
BEGIN:DAYLIGHT
TZOFFSETFROM:-0600
TZOFFSETTO:-0500
TZNAME:CDT
DTSTART:20220313T080000
END:DAYLIGHT
BEGIN:STANDARD
TZOFFSETFROM:-0500
TZOFFSETTO:-0600
TZNAME:CST
DTSTART:20221106T070000
END:STANDARD
BEGIN:DAYLIGHT
TZOFFSETFROM:-0600
TZOFFSETTO:-0500
TZNAME:CDT
DTSTART:20230312T080000
END:DAYLIGHT
BEGIN:STANDARD
TZOFFSETFROM:-0500
TZOFFSETTO:-0600
TZNAME:CST
DTSTART:20231105T070000
END:STANDARD
BEGIN:DAYLIGHT
TZOFFSETFROM:-0600
TZOFFSETTO:-0500
TZNAME:CDT
DTSTART:20240310T080000
END:DAYLIGHT
BEGIN:STANDARD
TZOFFSETFROM:-0500
TZOFFSETTO:-0600
TZNAME:CST
DTSTART:20241103T070000
END:STANDARD
END:VTIMEZONE
BEGIN:VEVENT
DTSTART;TZID=America/Chicago:20231006T170000
DTEND;TZID=America/Chicago:20231006T190000
DTSTAMP:20260422T111408
CREATED:20230926T001643Z
LAST-MODIFIED:20230926T001643Z
UID:10000473-1696611600-1696618800@riverartsalliance.org
SUMMARY:Art Schmooze with RAA\, SSF\, & WAC
DESCRIPTION:Winona Arts Center | 228 E 5th St. \nFor our next Art Schmooze\, River Arts Alliance is teaming up with two fellow Winona-based arts organizations\, the Sandbar Storytelling Festival and the Winona Arts Center! Join us on Friday evening\, October 6\, from 5 to 7 pm at the Arts Center\, located at 228 E 5th Street\, Winona. The event is free and open to the public. The Schmooze is intended as a fun\, informal opportunity to learn more about each of the three organizations and to make connections with fellow arts supporters and artists of all disciplines. Learn more.
URL:https://riverartsalliance.org/event/art-schmooze-with-raa-ssf-wac/
LOCATION:Winona Arts Center\, 228 E 5th St.\, Winona\, MN\, 55987\, United States
END:VEVENT
BEGIN:VEVENT
DTSTART;TZID=America/Chicago:20231006T190000
DTEND;TZID=America/Chicago:20231006T190000
DTSTAMP:20260422T111408
CREATED:20230919T142419Z
LAST-MODIFIED:20230919T142419Z
UID:10000216-1696618800-1696618800@riverartsalliance.org
SUMMARY:Theatre du Mississippi Presents Return Engagement by Kathleen Kenney-Peterson
DESCRIPTION:Valencia Arts Center | 1164 W Howard St.\ntheatredumiss.org \nTheatre du Mississippi is pleased to kick-off its 25th anniversary season with Return Engagement\, a work by local playwright Kathleen Kenney-Peterson. Michael Fitzpatrick\, a favorite actor of Winona’s Great River Shakespeare Festival\, will play the lead role. The play tells the story of Richard\, a gay New York stage actor who has developed multiple sclerosis and is forced to move back to his small Minnesota hometown. Tickets are $15 online at Eventbrite\, $15 cash or check at Chapter 2 Books (125 E 3rd St.\, Winona)\, and No Name Bar (252 E 3rd St.\, Winona)\, or $20 at the door. Following the October 8 performance will be a panel discussion about caregiving\, with representatives from Winona Health and Eldercare. Learn more.
URL:https://riverartsalliance.org/event/theatre-du-mississippi-presents-return-engagement-by-kathleen-kenney-peterson/2023-10-06/
LOCATION:Minnesota Conservatory for the Arts\, 1164 W 10th St.\, Winona\, MN\, United States
END:VEVENT
BEGIN:VEVENT
DTSTART;TZID=America/Chicago:20231006T193000
DTEND;TZID=America/Chicago:20231006T193000
DTSTAMP:20260422T111408
CREATED:20230926T003955Z
LAST-MODIFIED:20230926T003955Z
UID:10000475-1696620600-1696620600@riverartsalliance.org
SUMMARY:The Cup Film at WAC
DESCRIPTION:Winona Arts Center | 228 E 5th St.\nwinonaarts.org \nThe Winona Film Society is pleased to present the film\, The Cup\, on October 6\, 2023 at 7:30 pm at the Winona Arts Center. Admission is $5. \nPrayer. Meditation. Rituals. Soccer?? \nWorld Cup soccer fever sweeps into a remote Himalayan monastery and centuries-old traditions are threatened—the young monks will do just about anything to watch the final match\, posing a unique challenge to the venerable lamas in charge. Tibetan language with English subtitles. Learn more.
URL:https://riverartsalliance.org/event/the-cup-film-at-wac/
LOCATION:Winona Arts Center\, 228 E 5th St.\, Winona\, MN\, 55987\, United States
END:VEVENT
END:VCALENDAR