BEGIN:VCALENDAR
VERSION:2.0
PRODID:-//River Arts Alliance - ECPv6.15.20//NONSGML v1.0//EN
CALSCALE:GREGORIAN
METHOD:PUBLISH
X-WR-CALNAME:River Arts Alliance
X-ORIGINAL-URL:https://riverartsalliance.org
X-WR-CALDESC:Events for River Arts Alliance
REFRESH-INTERVAL;VALUE=DURATION:PT1H
X-Robots-Tag:noindex
X-PUBLISHED-TTL:PT1H
BEGIN:VTIMEZONE
TZID:America/Chicago
BEGIN:DAYLIGHT
TZOFFSETFROM:-0600
TZOFFSETTO:-0500
TZNAME:CDT
DTSTART:20220313T080000
END:DAYLIGHT
BEGIN:STANDARD
TZOFFSETFROM:-0500
TZOFFSETTO:-0600
TZNAME:CST
DTSTART:20221106T070000
END:STANDARD
BEGIN:DAYLIGHT
TZOFFSETFROM:-0600
TZOFFSETTO:-0500
TZNAME:CDT
DTSTART:20230312T080000
END:DAYLIGHT
BEGIN:STANDARD
TZOFFSETFROM:-0500
TZOFFSETTO:-0600
TZNAME:CST
DTSTART:20231105T070000
END:STANDARD
BEGIN:DAYLIGHT
TZOFFSETFROM:-0600
TZOFFSETTO:-0500
TZNAME:CDT
DTSTART:20240310T080000
END:DAYLIGHT
BEGIN:STANDARD
TZOFFSETFROM:-0500
TZOFFSETTO:-0600
TZNAME:CST
DTSTART:20241103T070000
END:STANDARD
END:VTIMEZONE
BEGIN:VEVENT
DTSTART;TZID=America/Chicago:20231008T120000
DTEND;TZID=America/Chicago:20231008T160000
DTSTAMP:20260422T111408
CREATED:20230925T224507Z
LAST-MODIFIED:20230925T224507Z
UID:10000469-1696766400-1696780800@riverartsalliance.org
SUMMARY:Voices From the Past Cemetery Walk
DESCRIPTION:Woodlawn Cemetery | 506 W Lake Blvd.\nwinonahistory.org \nThe Winona County Historical Society’s fall fundraiser event\, Voices From the Past Cemetery Walk will highlight what has been and still is Made in Winona! this year. Take a walk into the past with stories of Winona County brought to life with community actors in beautiful Woodlawn Cemetery. Allow about 1.5 to 2 hours to take the self-guided tour on October 7 or 8. Cannot make The Walk? Then head to the indoor accessible performance of all the sites at the History Center on October 5 at 6 p.m. Voices From the Past is sponsored by Merchants Bank. Admission: $10 Adults\, $5 Students\, $3 Youth 12 to 4 years old. Learn more.
URL:https://riverartsalliance.org/event/voices-from-the-past-cemetery-walk/2023-10-08/
LOCATION:Woodlawn Cemetery\, 506 W Lake Blvd.\, Winona\, MN\, 55987\, United States
END:VEVENT
BEGIN:VEVENT
DTSTART;TZID=America/Chicago:20231008T140000
DTEND;TZID=America/Chicago:20231008T140000
DTSTAMP:20260422T111408
CREATED:20230919T142419Z
LAST-MODIFIED:20230919T142419Z
UID:10000218-1696773600-1696773600@riverartsalliance.org
SUMMARY:Theatre du Mississippi Presents Return Engagement by Kathleen Kenney-Peterson
DESCRIPTION:Valencia Arts Center | 1164 W Howard St.\ntheatredumiss.org \nTheatre du Mississippi is pleased to kick-off its 25th anniversary season with Return Engagement\, a work by local playwright Kathleen Kenney-Peterson. Michael Fitzpatrick\, a favorite actor of Winona’s Great River Shakespeare Festival\, will play the lead role. The play tells the story of Richard\, a gay New York stage actor who has developed multiple sclerosis and is forced to move back to his small Minnesota hometown. Tickets are $15 online at Eventbrite\, $15 cash or check at Chapter 2 Books (125 E 3rd St.\, Winona)\, and No Name Bar (252 E 3rd St.\, Winona)\, or $20 at the door. Following the October 8 performance will be a panel discussion about caregiving\, with representatives from Winona Health and Eldercare. Learn more.
URL:https://riverartsalliance.org/event/theatre-du-mississippi-presents-return-engagement-by-kathleen-kenney-peterson/2023-10-08/
LOCATION:Minnesota Conservatory for the Arts\, 1164 W 10th St.\, Winona\, MN\, United States
END:VEVENT
BEGIN:VEVENT
DTSTART;TZID=America/Chicago:20231008T140000
DTEND;TZID=America/Chicago:20231008T160000
DTSTAMP:20260422T111408
CREATED:20230926T020412Z
LAST-MODIFIED:20230926T020412Z
UID:10000482-1696773600-1696780800@riverartsalliance.org
SUMMARY:Sweet Sounds Third Anniversary Supports Lutheran Campus Center
DESCRIPTION:Faith Lutheran Church | 1717 W Service Dr.\nH3OJazz.com \nCalling all lovers of homemade treats and jazz music! On Sunday\, October 8\, H3O Jazz Trio will present the third annual “Sweet Sounds” – a concert benefitting the Lutheran Campus Center in Winona. The event runs from 2 to 4 pm and will feature the jazz trio along with some special guests. The concert will be held outside\, weather permitting\, at Faith Lutheran Church\, 1717 W Service Drive\, Winona\, and move inside if the weather is unfavorable. There is no fee to enjoy this fun afternoon and the event is open to all with donations gratefully accepted. Learn more.
URL:https://riverartsalliance.org/event/sweet-sounds-third-anniversary-supports-lutheran-campus-center/
LOCATION:Faith Lutheran Church\, 1717 W Service Dr.\, Winona\, MN\, 55987\, United States
END:VEVENT
END:VCALENDAR