BEGIN:VCALENDAR
VERSION:2.0
PRODID:-//River Arts Alliance - ECPv6.15.20//NONSGML v1.0//EN
CALSCALE:GREGORIAN
METHOD:PUBLISH
X-ORIGINAL-URL:https://riverartsalliance.org
X-WR-CALDESC:Events for River Arts Alliance
REFRESH-INTERVAL;VALUE=DURATION:PT1H
X-Robots-Tag:noindex
X-PUBLISHED-TTL:PT1H
BEGIN:VTIMEZONE
TZID:America/Chicago
BEGIN:DAYLIGHT
TZOFFSETFROM:-0600
TZOFFSETTO:-0500
TZNAME:CDT
DTSTART:20220313T080000
END:DAYLIGHT
BEGIN:STANDARD
TZOFFSETFROM:-0500
TZOFFSETTO:-0600
TZNAME:CST
DTSTART:20221106T070000
END:STANDARD
BEGIN:DAYLIGHT
TZOFFSETFROM:-0600
TZOFFSETTO:-0500
TZNAME:CDT
DTSTART:20230312T080000
END:DAYLIGHT
BEGIN:STANDARD
TZOFFSETFROM:-0500
TZOFFSETTO:-0600
TZNAME:CST
DTSTART:20231105T070000
END:STANDARD
BEGIN:DAYLIGHT
TZOFFSETFROM:-0600
TZOFFSETTO:-0500
TZNAME:CDT
DTSTART:20240310T080000
END:DAYLIGHT
BEGIN:STANDARD
TZOFFSETFROM:-0500
TZOFFSETTO:-0600
TZNAME:CST
DTSTART:20241103T070000
END:STANDARD
END:VTIMEZONE
BEGIN:VEVENT
DTSTART;TZID=America/Chicago:20231012T190000
DTEND;TZID=America/Chicago:20231012T190000
DTSTAMP:20260422T111536
CREATED:20231003T224928Z
LAST-MODIFIED:20231003T224928Z
UID:10000485-1697137200-1697137200@riverartsalliance.org
SUMMARY:Claude Bourbon at Winona House Concerts
DESCRIPTION:Historic Frederick Bell House | Winona\nwinonahouseconcerts.com \nThe next concert at Winona House Concerts will feature Claude Bourbon\, progressive blues\, on Thursday\, October 12 at 7 pm. Tickets are $25.00 and all ticket proceeds go to the artist. Ready for a unique and talented take on a wide range of musical traditions? Claude Bourbon is known throughout Europe and America for amazing guitar performances that take blues\, Spanish\, and classical stylings into uncharted territories. Learn more.
URL:https://riverartsalliance.org/event/claude-bourbon-at-winona-house-concerts/
LOCATION:MN
END:VEVENT
END:VCALENDAR