BEGIN:VCALENDAR
VERSION:2.0
PRODID:-//River Arts Alliance - ECPv6.15.20//NONSGML v1.0//EN
CALSCALE:GREGORIAN
METHOD:PUBLISH
X-WR-CALNAME:River Arts Alliance
X-ORIGINAL-URL:https://riverartsalliance.org
X-WR-CALDESC:Events for River Arts Alliance
REFRESH-INTERVAL;VALUE=DURATION:PT1H
X-Robots-Tag:noindex
X-PUBLISHED-TTL:PT1H
BEGIN:VTIMEZONE
TZID:America/Chicago
BEGIN:DAYLIGHT
TZOFFSETFROM:-0600
TZOFFSETTO:-0500
TZNAME:CDT
DTSTART:20220313T080000
END:DAYLIGHT
BEGIN:STANDARD
TZOFFSETFROM:-0500
TZOFFSETTO:-0600
TZNAME:CST
DTSTART:20221106T070000
END:STANDARD
BEGIN:DAYLIGHT
TZOFFSETFROM:-0600
TZOFFSETTO:-0500
TZNAME:CDT
DTSTART:20230312T080000
END:DAYLIGHT
BEGIN:STANDARD
TZOFFSETFROM:-0500
TZOFFSETTO:-0600
TZNAME:CST
DTSTART:20231105T070000
END:STANDARD
BEGIN:DAYLIGHT
TZOFFSETFROM:-0600
TZOFFSETTO:-0500
TZNAME:CDT
DTSTART:20240310T080000
END:DAYLIGHT
BEGIN:STANDARD
TZOFFSETFROM:-0500
TZOFFSETTO:-0600
TZNAME:CST
DTSTART:20241103T070000
END:STANDARD
END:VTIMEZONE
BEGIN:VEVENT
DTSTART;TZID=America/Chicago:20231013T180000
DTEND;TZID=America/Chicago:20231013T180000
DTSTAMP:20260422T111407
CREATED:20231017T042652Z
LAST-MODIFIED:20231017T042652Z
UID:10000232-1697220000-1697220000@riverartsalliance.org
SUMMARY:Exhibition Opens - Joan Porter-Einsman in Artistry Exhibition
DESCRIPTION:October 13 – November 19\, 2023\nBloomington Center for the Arts | 1800 W Old Shakopee Rd. | Bloomington\, MN\nartistrymn.org \nRiver Arts Alliance member and painter Joan Porter-Einsman has work included in Artistry’s 47th Annual Members’ Juried Art Show in Bloomington\, Minnesota. The exhibition can be seen from Friday\, October 13 through Sunday\, November 19\, 2023 in the Inez Greenberg Gallery at the Bloomington Center for the Arts\, 1800 W Old Shakopee Rd.\, Bloomington\, MN 55431. Learn more.
URL:https://riverartsalliance.org/event/exhibition-opens-joan-porter-einsman-in-artistry-exhibition/
LOCATION:Bloomington Center for the Arts\, 1800 W Old Shakopee Rd.\, Bloomington\, MN\, 55431\, United States
END:VEVENT
END:VCALENDAR