BEGIN:VCALENDAR
VERSION:2.0
PRODID:-//River Arts Alliance - ECPv6.15.20//NONSGML v1.0//EN
CALSCALE:GREGORIAN
METHOD:PUBLISH
X-WR-CALNAME:River Arts Alliance
X-ORIGINAL-URL:https://riverartsalliance.org
X-WR-CALDESC:Events for River Arts Alliance
REFRESH-INTERVAL;VALUE=DURATION:PT1H
X-Robots-Tag:noindex
X-PUBLISHED-TTL:PT1H
BEGIN:VTIMEZONE
TZID:America/Chicago
BEGIN:DAYLIGHT
TZOFFSETFROM:-0600
TZOFFSETTO:-0500
TZNAME:CDT
DTSTART:20220313T080000
END:DAYLIGHT
BEGIN:STANDARD
TZOFFSETFROM:-0500
TZOFFSETTO:-0600
TZNAME:CST
DTSTART:20221106T070000
END:STANDARD
BEGIN:DAYLIGHT
TZOFFSETFROM:-0600
TZOFFSETTO:-0500
TZNAME:CDT
DTSTART:20230312T080000
END:DAYLIGHT
BEGIN:STANDARD
TZOFFSETFROM:-0500
TZOFFSETTO:-0600
TZNAME:CST
DTSTART:20231105T070000
END:STANDARD
BEGIN:DAYLIGHT
TZOFFSETFROM:-0600
TZOFFSETTO:-0500
TZNAME:CDT
DTSTART:20240310T080000
END:DAYLIGHT
BEGIN:STANDARD
TZOFFSETFROM:-0500
TZOFFSETTO:-0600
TZNAME:CST
DTSTART:20241103T070000
END:STANDARD
END:VTIMEZONE
BEGIN:VEVENT
DTSTART;TZID=America/Chicago:20231014T100000
DTEND;TZID=America/Chicago:20231014T140000
DTSTAMP:20260422T111426
CREATED:20231010T212515Z
LAST-MODIFIED:20231010T212515Z
UID:10000489-1697277600-1697292000@riverartsalliance.org
SUMMARY:Fall Free Ink Day at WAC
DESCRIPTION:Winona Arts Center | 228 E 5th St.\nwinonaarts.org \nPlease join us for a Fall Free Ink on October 14 at the Winona Arts Center. Come and learn to make monoprints on the printing press\, using the vibrant colors of fall and materials from nature as well. No experience is necessary and the Arts Center will provide all supplies. Drop in anytime between 10 am and 2 pm. Children under age 12 must be accompanied by an adult. \nVolunteers are needed to help with Fall Free Ink. If you are interested in volunteering\, please contact Jen Benson at jsbenson50@gmail.com. Learn more.
URL:https://riverartsalliance.org/event/fall-free-ink-day-at-wac/
LOCATION:Winona Arts Center\, 228 E 5th St.\, Winona\, MN\, 55987\, United States
END:VEVENT
BEGIN:VEVENT
DTSTART;TZID=America/Chicago:20231014T160000
DTEND;TZID=America/Chicago:20231014T160000
DTSTAMP:20260422T111426
CREATED:20231007T174712Z
LAST-MODIFIED:20231007T174712Z
UID:10000488-1697299200-1697299200@riverartsalliance.org
SUMMARY:Community Storytelling Competition: Final Competition
DESCRIPTION:Page Theater | SMU | 700 Terrace Heights\nsandbarstorytellingfestival.org\n\n\n\nThe Sandbar Storytelling Festival (SSF) is adding a new and improved event to their festival this year\, a Community Storytelling Competition. To compete at the festival\, nine community tellers will be chosen during a Pre-Competition Screening on Tuesday\, Oct. 10. Tellers will have five minutes to tell a story of their choice. The best nine will be chosen from the screening to perform for the final competition on Saturday\, Oct. 14\, at 4 pm in the Page Theater at Saint Mary’s University. Registration for the Pre-Competition Screening is required. See guidelines and learn more here.
URL:https://riverartsalliance.org/event/community-storytelling-competition-final-competition/
LOCATION:Page Theatre\, 700 Terrace Heights\, Winona\, MN\, 55987\, United States
END:VEVENT
END:VCALENDAR