BEGIN:VCALENDAR
VERSION:2.0
PRODID:-//River Arts Alliance - ECPv6.15.20//NONSGML v1.0//EN
CALSCALE:GREGORIAN
METHOD:PUBLISH
X-ORIGINAL-URL:https://riverartsalliance.org
X-WR-CALDESC:Events for River Arts Alliance
REFRESH-INTERVAL;VALUE=DURATION:PT1H
X-Robots-Tag:noindex
X-PUBLISHED-TTL:PT1H
BEGIN:VTIMEZONE
TZID:America/Chicago
BEGIN:DAYLIGHT
TZOFFSETFROM:-0600
TZOFFSETTO:-0500
TZNAME:CDT
DTSTART:20220313T080000
END:DAYLIGHT
BEGIN:STANDARD
TZOFFSETFROM:-0500
TZOFFSETTO:-0600
TZNAME:CST
DTSTART:20221106T070000
END:STANDARD
BEGIN:DAYLIGHT
TZOFFSETFROM:-0600
TZOFFSETTO:-0500
TZNAME:CDT
DTSTART:20230312T080000
END:DAYLIGHT
BEGIN:STANDARD
TZOFFSETFROM:-0500
TZOFFSETTO:-0600
TZNAME:CST
DTSTART:20231105T070000
END:STANDARD
BEGIN:DAYLIGHT
TZOFFSETFROM:-0600
TZOFFSETTO:-0500
TZNAME:CDT
DTSTART:20240310T080000
END:DAYLIGHT
BEGIN:STANDARD
TZOFFSETFROM:-0500
TZOFFSETTO:-0600
TZNAME:CST
DTSTART:20241103T070000
END:STANDARD
END:VTIMEZONE
BEGIN:VEVENT
DTSTART;TZID=America/Chicago:20231015T143000
DTEND;TZID=America/Chicago:20231015T173000
DTSTAMP:20260422T111536
CREATED:20231010T214934Z
LAST-MODIFIED:20231010T214934Z
UID:10000490-1697380200-1697391000@riverartsalliance.org
SUMMARY:October Jazz Jam Supporting WSU Children’s Center
DESCRIPTION:Island City Brewing Company | 65 E Front St.\nH3OJazz.com \nThe monthly Island City Jazz Jams with H3O Jazz Trio are all about having fun while supporting local area nonprofits. On Sunday\, October 15\, come join your friends for an afternoon of jazz in support of the WSU Children’s Center. The WSU Children’s Center is currently at 70% of meeting the goal towards rebuilding its playground. All donations at the Jazz Jam will be matched by H3O and Island City\, tripling everyone’s contributions. \nTo date\, H3O Jazz Trio and Island City Brewing have helped support local nonprofits with over $39\,000 in total donations thanks to the generosity of Jazz Jam patrons! The September Jazz Jam contributed over $1\,600 to Project FINE. Learn more.
URL:https://riverartsalliance.org/event/october-jazz-jam-supporting-wsu-childrens-center/
LOCATION:Island City Brewing Company\, 65 E Front St\, Winona\, MN\, 55987\, United States
END:VEVENT
END:VCALENDAR