BEGIN:VCALENDAR
VERSION:2.0
PRODID:-//River Arts Alliance - ECPv6.15.20//NONSGML v1.0//EN
CALSCALE:GREGORIAN
METHOD:PUBLISH
X-ORIGINAL-URL:https://riverartsalliance.org
X-WR-CALDESC:Events for River Arts Alliance
REFRESH-INTERVAL;VALUE=DURATION:PT1H
X-Robots-Tag:noindex
X-PUBLISHED-TTL:PT1H
BEGIN:VTIMEZONE
TZID:America/Chicago
BEGIN:DAYLIGHT
TZOFFSETFROM:-0600
TZOFFSETTO:-0500
TZNAME:CDT
DTSTART:20220313T080000
END:DAYLIGHT
BEGIN:STANDARD
TZOFFSETFROM:-0500
TZOFFSETTO:-0600
TZNAME:CST
DTSTART:20221106T070000
END:STANDARD
BEGIN:DAYLIGHT
TZOFFSETFROM:-0600
TZOFFSETTO:-0500
TZNAME:CDT
DTSTART:20230312T080000
END:DAYLIGHT
BEGIN:STANDARD
TZOFFSETFROM:-0500
TZOFFSETTO:-0600
TZNAME:CST
DTSTART:20231105T070000
END:STANDARD
BEGIN:DAYLIGHT
TZOFFSETFROM:-0600
TZOFFSETTO:-0500
TZNAME:CDT
DTSTART:20240310T080000
END:DAYLIGHT
BEGIN:STANDARD
TZOFFSETFROM:-0500
TZOFFSETTO:-0600
TZNAME:CST
DTSTART:20241103T070000
END:STANDARD
END:VTIMEZONE
BEGIN:VEVENT
DTSTART;TZID=America/Chicago:20231021T190000
DTEND;TZID=America/Chicago:20231021T210000
DTSTAMP:20260422T111535
CREATED:20231017T040203Z
LAST-MODIFIED:20231017T040203Z
UID:10000908-1697914800-1697922000@riverartsalliance.org
SUMMARY:Mountainfilm on Tour in Winona
DESCRIPTION:Winona Middle School Auditorium | 1570 Homer Rd.\nfrff.org/events \nMountainfilm on Tour visits Winona on October 20 & 21 at the Winona Middle School Auditorium\, hosted by Frozen River Film Festival. Join us for an evening of inspiring and captivating films handpicked from the Mountainfilm festival in Telluride\, Colorado. Doors open for the event at 6:30 pm and the show will kick off at 7 pm. Learn more.
URL:https://riverartsalliance.org/event/mountainfilm-on-tour-in-winona/2023-10-21/
LOCATION:Winona Middle School\, 1570 Homer Rd.\, Winona\, MN\, 55987\, United States
END:VEVENT
BEGIN:VEVENT
DTSTART;TZID=America/Chicago:20231021T193000
DTEND;TZID=America/Chicago:20231021T210000
DTSTAMP:20260422T111535
CREATED:20231017T040903Z
LAST-MODIFIED:20231017T040903Z
UID:10000928-1697916600-1697922000@riverartsalliance.org
SUMMARY:Symphony Fall Concert – Pioneers of Today
DESCRIPTION:DuFresne Performing Arts Center Main Stage | Winona State University | 450 Johnson St.\nwinonasymphony.org/event/pioneers-of-today \nThe Winona Symphony presents the Fall Concert\, Pioneers of Today\, featuring a wonderful collection of works by living composers\, including a world premiere by famed Minnesota composer\, Libby Larsen. Learn more.
URL:https://riverartsalliance.org/event/symphony-fall-concert-pioneers-of-today/
LOCATION:WSU DuFresne Performing Arts Center\, 450 Johnson St.\, Winona\, MN\, 55987\, United States
END:VEVENT
END:VCALENDAR