BEGIN:VCALENDAR
VERSION:2.0
PRODID:-//River Arts Alliance - ECPv6.15.20//NONSGML v1.0//EN
CALSCALE:GREGORIAN
METHOD:PUBLISH
X-WR-CALNAME:River Arts Alliance
X-ORIGINAL-URL:https://riverartsalliance.org
X-WR-CALDESC:Events for River Arts Alliance
REFRESH-INTERVAL;VALUE=DURATION:PT1H
X-Robots-Tag:noindex
X-PUBLISHED-TTL:PT1H
BEGIN:VTIMEZONE
TZID:America/Chicago
BEGIN:DAYLIGHT
TZOFFSETFROM:-0600
TZOFFSETTO:-0500
TZNAME:CDT
DTSTART:20220313T080000
END:DAYLIGHT
BEGIN:STANDARD
TZOFFSETFROM:-0500
TZOFFSETTO:-0600
TZNAME:CST
DTSTART:20221106T070000
END:STANDARD
BEGIN:DAYLIGHT
TZOFFSETFROM:-0600
TZOFFSETTO:-0500
TZNAME:CDT
DTSTART:20230312T080000
END:DAYLIGHT
BEGIN:STANDARD
TZOFFSETFROM:-0500
TZOFFSETTO:-0600
TZNAME:CST
DTSTART:20231105T070000
END:STANDARD
BEGIN:DAYLIGHT
TZOFFSETFROM:-0600
TZOFFSETTO:-0500
TZNAME:CDT
DTSTART:20240310T080000
END:DAYLIGHT
BEGIN:STANDARD
TZOFFSETFROM:-0500
TZOFFSETTO:-0600
TZNAME:CST
DTSTART:20241103T070000
END:STANDARD
END:VTIMEZONE
BEGIN:VEVENT
DTSTART;TZID=America/Chicago:20231028T140000
DTEND;TZID=America/Chicago:20231028T140000
DTSTAMP:20260422T111408
CREATED:20231025T142005Z
LAST-MODIFIED:20231025T142005Z
UID:10000237-1698501600-1698501600@riverartsalliance.org
SUMMARY:Winona Community Chorale Presents Falloween Concert
DESCRIPTION:First Congregational Church | 161 W Broadway\nfacebook.com/WinonaCommunityChorale \nThe Winona Community Chorale will present its second concert on October 27 and 28 at First Congregational Church. The Falloween Concert features music celebrating the season of fall and Halloween. There is no admission charge\, but a free-will offering will be collected. The Winona Community Chorale is a mixed choral ensemble performing music from a wide variety of styles\, genres and time periods. The Falloween Concert program includes pop tunes\, folk songs\, settings of poems including Lewis Carroll’s “Jabberwocky\,” and more. It will close with a medley from The Phantom of the Opera performed with pipe organ accompaniment. Learn more.
URL:https://riverartsalliance.org/event/winona-community-chorale-presents-falloween-concert/2023-10-28/
LOCATION:First Congregational Church\, 161 W Broadway St.\, Winona\, MN\, 55987\, United States
END:VEVENT
BEGIN:VEVENT
DTSTART;TZID=America/Chicago:20231028T190000
DTEND;TZID=America/Chicago:20231028T190000
DTSTAMP:20260422T111408
CREATED:20231025T143916Z
LAST-MODIFIED:20231025T143916Z
UID:10000240-1698519600-1698519600@riverartsalliance.org
SUMMARY:Mississippi Hot Club Concert at WAC
DESCRIPTION:Winona Arts Center | 228 E 5th St.\nwinonaarts.org \nThe Winona Arts Center is pleased to present the Mississippi Hot Club in concert on October 28. Mississippi Hot Club is inspiring a new generation of young swingers in Minnesota. With reverence and chops\, Mississippi Hot Club’s new album\, Swing Cities\, shines light on the bold music of Django Reinhardt from a fresh pop-oriented perspective. Swing Cities masterfully captures Mississippi Hot Club’s spunky performances\, featuring an upbeat approach to jazz manouche\, hot club jazz\, and gypsy jazz. Tickets are $15 in advance and $20 at the door and are available at Hardt’s Music until 4 pm on October 27\, and through Eventbrite. The coffeehouse and gallery will open at 6 pm with music starting at 7 pm. Learn more.
URL:https://riverartsalliance.org/event/mississippi-hot-club-concert-at-wac/
LOCATION:Winona Arts Center\, 228 E 5th St.\, Winona\, MN\, 55987\, United States
END:VEVENT
END:VCALENDAR