BEGIN:VCALENDAR
VERSION:2.0
PRODID:-//River Arts Alliance - ECPv6.15.20//NONSGML v1.0//EN
CALSCALE:GREGORIAN
METHOD:PUBLISH
X-ORIGINAL-URL:https://riverartsalliance.org
X-WR-CALDESC:Events for River Arts Alliance
REFRESH-INTERVAL;VALUE=DURATION:PT1H
X-Robots-Tag:noindex
X-PUBLISHED-TTL:PT1H
BEGIN:VTIMEZONE
TZID:America/Chicago
BEGIN:DAYLIGHT
TZOFFSETFROM:-0600
TZOFFSETTO:-0500
TZNAME:CDT
DTSTART:20220313T080000
END:DAYLIGHT
BEGIN:STANDARD
TZOFFSETFROM:-0500
TZOFFSETTO:-0600
TZNAME:CST
DTSTART:20221106T070000
END:STANDARD
BEGIN:DAYLIGHT
TZOFFSETFROM:-0600
TZOFFSETTO:-0500
TZNAME:CDT
DTSTART:20230312T080000
END:DAYLIGHT
BEGIN:STANDARD
TZOFFSETFROM:-0500
TZOFFSETTO:-0600
TZNAME:CST
DTSTART:20231105T070000
END:STANDARD
BEGIN:DAYLIGHT
TZOFFSETFROM:-0600
TZOFFSETTO:-0500
TZNAME:CDT
DTSTART:20240310T080000
END:DAYLIGHT
BEGIN:STANDARD
TZOFFSETFROM:-0500
TZOFFSETTO:-0600
TZNAME:CST
DTSTART:20241103T070000
END:STANDARD
END:VTIMEZONE
BEGIN:VEVENT
DTSTART;TZID=America/Chicago:20231029T150000
DTEND;TZID=America/Chicago:20231029T150000
DTSTAMP:20260424T051303
CREATED:20231025T145818Z
LAST-MODIFIED:20231025T145818Z
UID:10000242-1698591600-1698591600@riverartsalliance.org
SUMMARY:Choral Arts Ensemble and GRSF Present “When Love Speaks …”
DESCRIPTION:Central Lutheran Church | 259 W Wabasha St. \nOn Sunday\, October 29\, the Choral Arts Ensemble of Rochester will sing all manner of songs about love — true\, unrequited\, at-first-sight\, mature\, star-crossed\, selfless\, lost\, or just silly — in collaboration with Great River Shakespeare Festival actors\, led by their artistic director Doug Scholz-Carlson. The concert will take place in the outstanding acoustics of the Central Lutheran Church sanctuary. The musical offerings\, representing a kaleidoscope of romantic love\, will be complemented by equally varied romantic scenes\, speeches\, and poems delivered by the superb GRSF actors\, now celebrating their 20th season of professional theater. Tickets for this unique performance are $30 for adults and $10 for students and are available online or at the event. Learn more.
URL:https://riverartsalliance.org/event/choral-arts-ensemble-and-grsf-present-when-love-speaks/
LOCATION:Central Lutheran Church\, 259 W Wabasha St.\, Winona\, MN\, 55987\, United States
END:VEVENT
END:VCALENDAR