BEGIN:VCALENDAR
VERSION:2.0
PRODID:-//River Arts Alliance - ECPv6.15.20//NONSGML v1.0//EN
CALSCALE:GREGORIAN
METHOD:PUBLISH
X-ORIGINAL-URL:https://riverartsalliance.org
X-WR-CALDESC:Events for River Arts Alliance
REFRESH-INTERVAL;VALUE=DURATION:PT1H
X-Robots-Tag:noindex
X-PUBLISHED-TTL:PT1H
BEGIN:VTIMEZONE
TZID:America/Chicago
BEGIN:DAYLIGHT
TZOFFSETFROM:-0600
TZOFFSETTO:-0500
TZNAME:CDT
DTSTART:20220313T080000
END:DAYLIGHT
BEGIN:STANDARD
TZOFFSETFROM:-0500
TZOFFSETTO:-0600
TZNAME:CST
DTSTART:20221106T070000
END:STANDARD
BEGIN:DAYLIGHT
TZOFFSETFROM:-0600
TZOFFSETTO:-0500
TZNAME:CDT
DTSTART:20230312T080000
END:DAYLIGHT
BEGIN:STANDARD
TZOFFSETFROM:-0500
TZOFFSETTO:-0600
TZNAME:CST
DTSTART:20231105T070000
END:STANDARD
BEGIN:DAYLIGHT
TZOFFSETFROM:-0600
TZOFFSETTO:-0500
TZNAME:CDT
DTSTART:20240310T080000
END:DAYLIGHT
BEGIN:STANDARD
TZOFFSETFROM:-0500
TZOFFSETTO:-0600
TZNAME:CST
DTSTART:20241103T070000
END:STANDARD
END:VTIMEZONE
BEGIN:VEVENT
DTSTART;TZID=America/Chicago:20231104T090000
DTEND;TZID=America/Chicago:20231104T160000
DTSTAMP:20260422T094202
CREATED:20231011T001742Z
LAST-MODIFIED:20231011T001742Z
UID:10000905-1699088400-1699113600@riverartsalliance.org
SUMMARY:Walnut Ink Workshop with Kathie Wheeler
DESCRIPTION:Mississippi Mornings Art Studio | 40341 Lamoille Dr. \nJoin Kathie Wheeler\, an award winning landscape and portrait artist\, for a fun\, creative day making and learning to use walnut ink. In this workshop the morning will be spent making the ink and learning pen and ink techniques that will be used in the afternoon to sketch and draw with the ink. Supplies are included in the workshop fee and each student will leave with a small jar of ink\, pen and nibs\, a brush and watercolor pad. The workshop fee is $125. Contact Linda Klabo at Mississippi Mornings Art Studio\, linda@mississippimornings.com\, to register. Learn more.
URL:https://riverartsalliance.org/event/walnut-ink-workshop-with-kathie-wheeler/
LOCATION:Mississippi Mornings Art Studio\, 40341 Lamoille Dr.\, Winona\, MN\, 55987\, United States
END:VEVENT
BEGIN:VEVENT
DTSTART;TZID=America/Chicago:20231104T190000
DTEND;TZID=America/Chicago:20231104T190000
DTSTAMP:20260422T094202
CREATED:20231103T011044Z
LAST-MODIFIED:20231103T011044Z
UID:10000936-1699124400-1699124400@riverartsalliance.org
SUMMARY:Theatre du Mississippi Presents Sometimes There’s Wine
DESCRIPTION:Fridays & Saturdays | November 3-4 & 10-11 | 7 pm\nSundays | November 5 & 12 | 2 pm\nValencia Arts Center | 1164 W Howard St.\ntheatredumiss.org \nTheatre du Mississippi presents a production of the play Sometimes There’s Wine. Sometimes There’s Wine is a delightful and witty show created by Shanan Custer and Carolyn Pool\, who also wrote 2 Sugars\, Room for Cream. Despite its playful title\, this show is not just about wine; it’s about the genuine and charming relationship between the characters. The performance is filled with humor and authenticity\, offering a series of comic vignettes that shed light on the hilarity of everyday situations. Pre-sale tickets are $15 (cash/check) available at Chapter 2 Books and No Name Bar. Online Pre-Sale tickets are $15 (plus fees) at Eventbrite. Tickets are available at the door (cash/check)\, the day of the event for $20. Learn more.
URL:https://riverartsalliance.org/event/theatre-du-mississippi-presents-sometimes-theres-wine/2023-11-04/
LOCATION:Minnesota Conservatory for the Arts\, 1164 W 10th St.\, Winona\, MN\, United States
END:VEVENT
BEGIN:VEVENT
DTSTART;TZID=America/Chicago:20231104T190000
DTEND;TZID=America/Chicago:20231104T223000
DTSTAMP:20260422T094202
CREATED:20231101T173457Z
LAST-MODIFIED:20231101T173457Z
UID:10000246-1699124400-1699137000@riverartsalliance.org
SUMMARY:Casino Royale Dance Night
DESCRIPTION:Winona Athletic Club | 773 E 5th St.\nrivercitydancers.org \nJoin River City Dancers for a night of elegance and intrigue\, where you can dance like James Bond in a high-stakes world of glamour at our Casino Royale Dance Night. The Tango & Rumba dance lesson will be from 7:00 to 8:00 pm. The dance starts at 8:00 and goes until 10:30 pm. Cost of admission (general: $15; students: $10) includes the optional dance lesson. Learn more.
URL:https://riverartsalliance.org/event/casino-royale-dance-night/
LOCATION:Winona Athletic Club\, 773 E 5th St.\, Winona\, MN\, 55987\, United States
END:VEVENT
END:VCALENDAR