BEGIN:VCALENDAR
VERSION:2.0
PRODID:-//River Arts Alliance - ECPv6.15.20//NONSGML v1.0//EN
CALSCALE:GREGORIAN
METHOD:PUBLISH
X-WR-CALNAME:River Arts Alliance
X-ORIGINAL-URL:https://riverartsalliance.org
X-WR-CALDESC:Events for River Arts Alliance
REFRESH-INTERVAL;VALUE=DURATION:PT1H
X-Robots-Tag:noindex
X-PUBLISHED-TTL:PT1H
BEGIN:VTIMEZONE
TZID:America/Chicago
BEGIN:DAYLIGHT
TZOFFSETFROM:-0600
TZOFFSETTO:-0500
TZNAME:CDT
DTSTART:20220313T080000
END:DAYLIGHT
BEGIN:STANDARD
TZOFFSETFROM:-0500
TZOFFSETTO:-0600
TZNAME:CST
DTSTART:20221106T070000
END:STANDARD
BEGIN:DAYLIGHT
TZOFFSETFROM:-0600
TZOFFSETTO:-0500
TZNAME:CDT
DTSTART:20230312T080000
END:DAYLIGHT
BEGIN:STANDARD
TZOFFSETFROM:-0500
TZOFFSETTO:-0600
TZNAME:CST
DTSTART:20231105T070000
END:STANDARD
BEGIN:DAYLIGHT
TZOFFSETFROM:-0600
TZOFFSETTO:-0500
TZNAME:CDT
DTSTART:20240310T080000
END:DAYLIGHT
BEGIN:STANDARD
TZOFFSETFROM:-0500
TZOFFSETTO:-0600
TZNAME:CST
DTSTART:20241103T070000
END:STANDARD
END:VTIMEZONE
BEGIN:VEVENT
DTSTART;TZID=America/Chicago:20231105T140000
DTEND;TZID=America/Chicago:20231105T140000
DTSTAMP:20260422T094118
CREATED:20231103T011044Z
LAST-MODIFIED:20231103T011044Z
UID:10000937-1699192800-1699192800@riverartsalliance.org
SUMMARY:Theatre du Mississippi Presents Sometimes There’s Wine
DESCRIPTION:Fridays & Saturdays | November 3-4 & 10-11 | 7 pm\nSundays | November 5 & 12 | 2 pm\nValencia Arts Center | 1164 W Howard St.\ntheatredumiss.org \nTheatre du Mississippi presents a production of the play Sometimes There’s Wine. Sometimes There’s Wine is a delightful and witty show created by Shanan Custer and Carolyn Pool\, who also wrote 2 Sugars\, Room for Cream. Despite its playful title\, this show is not just about wine; it’s about the genuine and charming relationship between the characters. The performance is filled with humor and authenticity\, offering a series of comic vignettes that shed light on the hilarity of everyday situations. Pre-sale tickets are $15 (cash/check) available at Chapter 2 Books and No Name Bar. Online Pre-Sale tickets are $15 (plus fees) at Eventbrite. Tickets are available at the door (cash/check)\, the day of the event for $20. Learn more.
URL:https://riverartsalliance.org/event/theatre-du-mississippi-presents-sometimes-theres-wine/2023-11-05/
LOCATION:Minnesota Conservatory for the Arts\, 1164 W 10th St.\, Winona\, MN\, United States
END:VEVENT
BEGIN:VEVENT
DTSTART;TZID=America/Chicago:20231105T160000
DTEND;TZID=America/Chicago:20231105T160000
DTSTAMP:20260422T094118
CREATED:20231103T004036Z
LAST-MODIFIED:20231103T004036Z
UID:10000248-1699200000-1699200000@riverartsalliance.org
SUMMARY:Winona Brass Band Season Begins
DESCRIPTION:St. Cecilia Theatre | 1124 W Wabasha St.\nfacebook.com/winonabrassband \nThe Winona Brass Band is excited to kick off its 2023-2024 season featuring music from the first decade of their 30 years together as an ensemble. The free concert will be held in the beautiful St. Cecilia Theatre at 4:00 pm on Sunday\, November 5th. The concert will feature selections celebrating the British musical tradition. Dr. Janet Heukeshoven\, the ensemble’s founding director\, returns to the podium this year. All performances are free\, but donations are gladly accepted. Learn more.
URL:https://riverartsalliance.org/event/winona-brass-band-season-begins/
LOCATION:St. Cecilia Theatre\, 1124 W Wabasha St.\, Winona\, MN\, 55987\, United States
END:VEVENT
END:VCALENDAR