BEGIN:VCALENDAR
VERSION:2.0
PRODID:-//River Arts Alliance - ECPv6.15.20//NONSGML v1.0//EN
CALSCALE:GREGORIAN
METHOD:PUBLISH
X-ORIGINAL-URL:https://riverartsalliance.org
X-WR-CALDESC:Events for River Arts Alliance
REFRESH-INTERVAL;VALUE=DURATION:PT1H
X-Robots-Tag:noindex
X-PUBLISHED-TTL:PT1H
BEGIN:VTIMEZONE
TZID:America/Chicago
BEGIN:DAYLIGHT
TZOFFSETFROM:-0600
TZOFFSETTO:-0500
TZNAME:CDT
DTSTART:20220313T080000
END:DAYLIGHT
BEGIN:STANDARD
TZOFFSETFROM:-0500
TZOFFSETTO:-0600
TZNAME:CST
DTSTART:20221106T070000
END:STANDARD
BEGIN:DAYLIGHT
TZOFFSETFROM:-0600
TZOFFSETTO:-0500
TZNAME:CDT
DTSTART:20230312T080000
END:DAYLIGHT
BEGIN:STANDARD
TZOFFSETFROM:-0500
TZOFFSETTO:-0600
TZNAME:CST
DTSTART:20231105T070000
END:STANDARD
BEGIN:DAYLIGHT
TZOFFSETFROM:-0600
TZOFFSETTO:-0500
TZNAME:CDT
DTSTART:20240310T080000
END:DAYLIGHT
BEGIN:STANDARD
TZOFFSETFROM:-0500
TZOFFSETTO:-0600
TZNAME:CST
DTSTART:20241103T070000
END:STANDARD
END:VTIMEZONE
BEGIN:VEVENT
DTSTART;TZID=America/Chicago:20231109T190000
DTEND;TZID=America/Chicago:20231109T201500
DTSTAMP:20260422T094214
CREATED:20231103T004434Z
LAST-MODIFIED:20231103T004434Z
UID:10000250-1699556400-1699560900@riverartsalliance.org
SUMMARY:Water Music: Chamber Concerts at the MMAM – The Big Catch
DESCRIPTION:Minnesota Marine Art Museum | 800 Riverview Dr.\nwinonasymphony.org \nJoin the Winona Symphony Orchestra at the Minnesota Marine Art Museum for an exciting concert\, “The Big Catch.” It will feature Schubert’s “Trout” Quintet\, “Four on the Floor” by Libby Larsen and a Quintet by Ellen Taaffe Zwilich to the backdrop of the Minnesota Marine Art Museum’s Art for Fish/Art for Humans exhibit by American artist Kristian Brevik. Learn more.
URL:https://riverartsalliance.org/event/water-music-chamber-concerts-at-the-mmam-the-big-catch/
LOCATION:Minnesota Marine Art Museum\, 800 Riverview Dr.\, Winona\, MN\, 55987\, United States
END:VEVENT
END:VCALENDAR