BEGIN:VCALENDAR
VERSION:2.0
PRODID:-//River Arts Alliance - ECPv6.15.20//NONSGML v1.0//EN
CALSCALE:GREGORIAN
METHOD:PUBLISH
X-WR-CALNAME:River Arts Alliance
X-ORIGINAL-URL:https://riverartsalliance.org
X-WR-CALDESC:Events for River Arts Alliance
REFRESH-INTERVAL;VALUE=DURATION:PT1H
X-Robots-Tag:noindex
X-PUBLISHED-TTL:PT1H
BEGIN:VTIMEZONE
TZID:America/Chicago
BEGIN:DAYLIGHT
TZOFFSETFROM:-0600
TZOFFSETTO:-0500
TZNAME:CDT
DTSTART:20220313T080000
END:DAYLIGHT
BEGIN:STANDARD
TZOFFSETFROM:-0500
TZOFFSETTO:-0600
TZNAME:CST
DTSTART:20221106T070000
END:STANDARD
BEGIN:DAYLIGHT
TZOFFSETFROM:-0600
TZOFFSETTO:-0500
TZNAME:CDT
DTSTART:20230312T080000
END:DAYLIGHT
BEGIN:STANDARD
TZOFFSETFROM:-0500
TZOFFSETTO:-0600
TZNAME:CST
DTSTART:20231105T070000
END:STANDARD
BEGIN:DAYLIGHT
TZOFFSETFROM:-0600
TZOFFSETTO:-0500
TZNAME:CDT
DTSTART:20240310T080000
END:DAYLIGHT
BEGIN:STANDARD
TZOFFSETFROM:-0500
TZOFFSETTO:-0600
TZNAME:CST
DTSTART:20241103T070000
END:STANDARD
END:VTIMEZONE
BEGIN:VEVENT
DTSTART;TZID=America/Chicago:20231111T120000
DTEND;TZID=America/Chicago:20231111T150000
DTSTAMP:20260422T094117
CREATED:20231103T004759Z
LAST-MODIFIED:20231103T004759Z
UID:10000252-1699704000-1699714800@riverartsalliance.org
SUMMARY:Nine Tile Pottery Class at WAC
DESCRIPTION:Winona Arts Center | 228 E 5th St.\nwinonaarts.org \nPlease join Richard Spiller\, renowned potter\, on November 11 from noon to 3 pm for a nine tile pottery class at the Winona Arts Center. Students will be given nine 4-inch tiles on a board. They will draw on each tile and then apply colored slips and clear glaze. Students can bring their own design or trace designs that are provided. Tiles will be fired at Spiller’s studio and returned at a later date. Learn more.
URL:https://riverartsalliance.org/event/nine-tile-pottery-class-at-wac/
LOCATION:Winona Arts Center\, 228 E 5th St.\, Winona\, MN\, 55987\, United States
END:VEVENT
BEGIN:VEVENT
DTSTART;TZID=America/Chicago:20231111T170000
DTEND;TZID=America/Chicago:20231111T190000
DTSTAMP:20260422T094117
CREATED:20231103T005103Z
LAST-MODIFIED:20231103T005103Z
UID:10000930-1699722000-1699729200@riverartsalliance.org
SUMMARY:Sarah Kieffer Book Event at the Blue Heron
DESCRIPTION:Blue Heron Coffeehouse | 162 W 2nd St.\nblueheroncoffeehouse.com \nJoin us to welcome Sarah Kieffer back to Winona to celebrate the publication of her new book\, 100 Morning Treats. Sarah was the first employee when the Blue Heron Coffeehouse opened 25 years ago and has gone on to become a successful blogger and cookbook author. Books will be for sale and the event will include a Q & A\, book signing\, and treat samples.
URL:https://riverartsalliance.org/event/sarah-kieffer-book-event-at-the-blue-heron/
LOCATION:Blue Heron Coffeehouse\, 162 W 2nd St\, Winona\, MN\, 55987\, United States
END:VEVENT
BEGIN:VEVENT
DTSTART;TZID=America/Chicago:20231111T190000
DTEND;TZID=America/Chicago:20231111T190000
DTSTAMP:20260422T094117
CREATED:20231103T005404Z
LAST-MODIFIED:20231103T005404Z
UID:10000931-1699729200-1699729200@riverartsalliance.org
SUMMARY:Daniel Bennett Group Concert at WAC
DESCRIPTION:Winona Arts Center | 228 E 5th St.\nwinonaarts.org \nThe Daniel Bennett Group will be in concert on November 11\, 2023 at 7 pm at the Winona Arts Center\, 228 East 5th Street. New York saxophonist Daniel Bennett has been hailed as one of the most original and unpredictable musical voices of his generation. The Boston Globe described Bennett’s music as “a mix of Jazz\, Folk and Minimalism.” Daniel Bennett is joined by master percussionist Koko Bermejo on drums and keyboard. Rounding out the trio is acclaimed six-string bassist Kevin Hailey. Coffeehouse and gallery open at 6 pm. Tickets are $15 in advance and $20 at the door and are available until 11/10/23 at Hardt’s Music or through Eventbrite. Learn more.
URL:https://riverartsalliance.org/event/daniel-bennett-group-concert-at-wac/
LOCATION:Winona Arts Center\, 228 E 5th St.\, Winona\, MN\, 55987\, United States
END:VEVENT
BEGIN:VEVENT
DTSTART;TZID=America/Chicago:20231111T190000
DTEND;TZID=America/Chicago:20231111T190000
DTSTAMP:20260422T094117
CREATED:20231103T011044Z
LAST-MODIFIED:20231103T011044Z
UID:10000939-1699729200-1699729200@riverartsalliance.org
SUMMARY:Theatre du Mississippi Presents Sometimes There’s Wine
DESCRIPTION:Fridays & Saturdays | November 3-4 & 10-11 | 7 pm\nSundays | November 5 & 12 | 2 pm\nValencia Arts Center | 1164 W Howard St.\ntheatredumiss.org \nTheatre du Mississippi presents a production of the play Sometimes There’s Wine. Sometimes There’s Wine is a delightful and witty show created by Shanan Custer and Carolyn Pool\, who also wrote 2 Sugars\, Room for Cream. Despite its playful title\, this show is not just about wine; it’s about the genuine and charming relationship between the characters. The performance is filled with humor and authenticity\, offering a series of comic vignettes that shed light on the hilarity of everyday situations. Pre-sale tickets are $15 (cash/check) available at Chapter 2 Books and No Name Bar. Online Pre-Sale tickets are $15 (plus fees) at Eventbrite. Tickets are available at the door (cash/check)\, the day of the event for $20. Learn more.
URL:https://riverartsalliance.org/event/theatre-du-mississippi-presents-sometimes-theres-wine/2023-11-11/
LOCATION:Minnesota Conservatory for the Arts\, 1164 W 10th St.\, Winona\, MN\, United States
END:VEVENT
BEGIN:VEVENT
DTSTART;TZID=America/Chicago:20231111T190000
DTEND;TZID=America/Chicago:20231111T190000
DTSTAMP:20260422T094117
CREATED:20231103T011706Z
LAST-MODIFIED:20231103T011706Z
UID:10000941-1699729200-1699729200@riverartsalliance.org
SUMMARY:John Paulson Big Band Veterans Day Fundraising Concert
DESCRIPTION:Wellington’s Pub & Grill | 1429 W Service Dr.\npaulsonjazz.com \nWinona\, MN musician\, composer\, and educator John Paulson has big plans for his big band this year. On November 11 at 7:00 pm\, he will lead his 19-piece big band in a special Veterans Day fund raising concert at Wellington’s Pub & Grill. All of the contributions from this performance and his “Jazz for Vets” Gofundme site (https://gofund.me/18b9376e) will go to the MACV organization in order to assist homeless Veterans in SE Minnesota. Learn more.
URL:https://riverartsalliance.org/event/john-paulson-big-band-veterans-day-fundraising-concert/
LOCATION:Wellington’s Pub & Grill\, 1429 W Service Dr.\, Winona\, MN\, 55987\, United States
END:VEVENT
END:VCALENDAR