BEGIN:VCALENDAR
VERSION:2.0
PRODID:-//River Arts Alliance - ECPv6.15.20//NONSGML v1.0//EN
CALSCALE:GREGORIAN
METHOD:PUBLISH
X-ORIGINAL-URL:https://riverartsalliance.org
X-WR-CALDESC:Events for River Arts Alliance
REFRESH-INTERVAL;VALUE=DURATION:PT1H
X-Robots-Tag:noindex
X-PUBLISHED-TTL:PT1H
BEGIN:VTIMEZONE
TZID:America/Chicago
BEGIN:DAYLIGHT
TZOFFSETFROM:-0600
TZOFFSETTO:-0500
TZNAME:CDT
DTSTART:20220313T080000
END:DAYLIGHT
BEGIN:STANDARD
TZOFFSETFROM:-0500
TZOFFSETTO:-0600
TZNAME:CST
DTSTART:20221106T070000
END:STANDARD
BEGIN:DAYLIGHT
TZOFFSETFROM:-0600
TZOFFSETTO:-0500
TZNAME:CDT
DTSTART:20230312T080000
END:DAYLIGHT
BEGIN:STANDARD
TZOFFSETFROM:-0500
TZOFFSETTO:-0600
TZNAME:CST
DTSTART:20231105T070000
END:STANDARD
BEGIN:DAYLIGHT
TZOFFSETFROM:-0600
TZOFFSETTO:-0500
TZNAME:CDT
DTSTART:20240310T080000
END:DAYLIGHT
BEGIN:STANDARD
TZOFFSETFROM:-0500
TZOFFSETTO:-0600
TZNAME:CST
DTSTART:20241103T070000
END:STANDARD
END:VTIMEZONE
BEGIN:VEVENT
DTSTART;TZID=America/Chicago:20231117T100000
DTEND;TZID=America/Chicago:20231117T170000
DTSTAMP:20260422T094203
CREATED:20231115T143718Z
LAST-MODIFIED:20231115T143718Z
UID:10000946-1700215200-1700240400@riverartsalliance.org
SUMMARY:23rd Annual Winona Art Walk & Tour
DESCRIPTION:The 23rd Annual Winona Art Walk & Tour is taking place at various artists’ studios and additional locations in Winona on Friday\, November 17\, and Saturday\, November 18. Hours are from 10:00 am to 5:00 pm each day. More information\, including a tour map and an online gallery book with images from each participant\, is available at winonaartwalk.org. Local art for sale by participating artists includes paintings\, photography\, pottery\, wood\, glass\, jewelry\, and more. The Winona Art Walk & Tour is a project of River Arts Alliance.
URL:https://riverartsalliance.org/event/23rd-annual-winona-art-walk-tour/
LOCATION:MN
END:VEVENT
END:VCALENDAR