BEGIN:VCALENDAR
VERSION:2.0
PRODID:-//River Arts Alliance - ECPv6.15.20//NONSGML v1.0//EN
CALSCALE:GREGORIAN
METHOD:PUBLISH
X-WR-CALNAME:River Arts Alliance
X-ORIGINAL-URL:https://riverartsalliance.org
X-WR-CALDESC:Events for River Arts Alliance
REFRESH-INTERVAL;VALUE=DURATION:PT1H
X-Robots-Tag:noindex
X-PUBLISHED-TTL:PT1H
BEGIN:VTIMEZONE
TZID:America/Chicago
BEGIN:DAYLIGHT
TZOFFSETFROM:-0600
TZOFFSETTO:-0500
TZNAME:CDT
DTSTART:20220313T080000
END:DAYLIGHT
BEGIN:STANDARD
TZOFFSETFROM:-0500
TZOFFSETTO:-0600
TZNAME:CST
DTSTART:20221106T070000
END:STANDARD
BEGIN:DAYLIGHT
TZOFFSETFROM:-0600
TZOFFSETTO:-0500
TZNAME:CDT
DTSTART:20230312T080000
END:DAYLIGHT
BEGIN:STANDARD
TZOFFSETFROM:-0500
TZOFFSETTO:-0600
TZNAME:CST
DTSTART:20231105T070000
END:STANDARD
BEGIN:DAYLIGHT
TZOFFSETFROM:-0600
TZOFFSETTO:-0500
TZNAME:CDT
DTSTART:20240310T080000
END:DAYLIGHT
BEGIN:STANDARD
TZOFFSETFROM:-0500
TZOFFSETTO:-0600
TZNAME:CST
DTSTART:20241103T070000
END:STANDARD
END:VTIMEZONE
BEGIN:VEVENT
DTSTART;TZID=America/Chicago:20231119T143000
DTEND;TZID=America/Chicago:20231119T173000
DTSTAMP:20260422T094118
CREATED:20231115T194816Z
LAST-MODIFIED:20231115T194816Z
UID:10000950-1700404200-1700415000@riverartsalliance.org
SUMMARY:H3O Supports HCO at November Jazz Jam
DESCRIPTION:Island City Brewing Company | 65 E Front St.\nH3OJazz.com \nOn November 19th\, come join your friends for an afternoon of jazz at Island City Brewing Company in support of Home & Community Options (HCO). The fundamental goals of HCO are to provide quality services that maximize the independence of those we serve\, to support individuals as they live happy and productive lives close to family and friends\, and to promote the inclusion of people with disabilities within the local community. For many summers\, HCO produced amazing musical theater productions which included community members with disabilities in the cast. HCO just announced that their celebrated tradition will return in the summer of 2024 with the hit musical “Annie”! \nH3O Jazz Trio and Island City Brewing have helped support local nonprofits with over $40\,000 in total donations thanks to the generosity of Jazz Jam patrons! The October Jazz Jam contributed over $1\,000 to the WSU Children’s Center. Learn more.
URL:https://riverartsalliance.org/event/h3o-supports-hco-at-november-jazz-jam/
LOCATION:Island City Brewing Company\, 65 E Front St\, Winona\, MN\, 55987\, United States
END:VEVENT
BEGIN:VEVENT
DTSTART;TZID=America/Chicago:20231119T150000
DTEND;TZID=America/Chicago:20231119T150000
DTSTAMP:20260422T094118
CREATED:20231129T022607Z
LAST-MODIFIED:20231129T022607Z
UID:10000258-1700406000-1700406000@riverartsalliance.org
SUMMARY:Winds of Winona at Old Main
DESCRIPTION:Old Main Cultural Center | 20869 College Ave. | Galesville\, WI\nfacebook.com/OldMainGalesville \n“Winds of Winona” will blow into Galesville’s venue at the Old Main Cultural Center on Sunday\, Nov. 19 at 3 pm\, at 20869 College Ave. Ryan Ballanger\, Chris Buswell\, Ruth and Frank Bures will play a varied clarinet concert of classical and lighter music. Their music always delights the crowd. The program will be on the first floor of the building\, a space just right for chamber music. Admission is $10.00 for adults and $5.00 for high school students and younger. Come sit upwind from the Winds for a refreshing set of pieces. Old Main Cultural Center and Ruth and Frank Bures are members of River Arts Alliance.
URL:https://riverartsalliance.org/event/winds-of-winona-at-old-main-2/
LOCATION:Old Main Cultural Center\, 20869 S College Ave.\, Galesville\, WI\, 54630\, United States
END:VEVENT
END:VCALENDAR