BEGIN:VCALENDAR
VERSION:2.0
PRODID:-//River Arts Alliance - ECPv6.15.20//NONSGML v1.0//EN
CALSCALE:GREGORIAN
METHOD:PUBLISH
X-WR-CALNAME:River Arts Alliance
X-ORIGINAL-URL:https://riverartsalliance.org
X-WR-CALDESC:Events for River Arts Alliance
REFRESH-INTERVAL;VALUE=DURATION:PT1H
X-Robots-Tag:noindex
X-PUBLISHED-TTL:PT1H
BEGIN:VTIMEZONE
TZID:America/Chicago
BEGIN:DAYLIGHT
TZOFFSETFROM:-0600
TZOFFSETTO:-0500
TZNAME:CDT
DTSTART:20220313T080000
END:DAYLIGHT
BEGIN:STANDARD
TZOFFSETFROM:-0500
TZOFFSETTO:-0600
TZNAME:CST
DTSTART:20221106T070000
END:STANDARD
BEGIN:DAYLIGHT
TZOFFSETFROM:-0600
TZOFFSETTO:-0500
TZNAME:CDT
DTSTART:20230312T080000
END:DAYLIGHT
BEGIN:STANDARD
TZOFFSETFROM:-0500
TZOFFSETTO:-0600
TZNAME:CST
DTSTART:20231105T070000
END:STANDARD
BEGIN:DAYLIGHT
TZOFFSETFROM:-0600
TZOFFSETTO:-0500
TZNAME:CDT
DTSTART:20240310T080000
END:DAYLIGHT
BEGIN:STANDARD
TZOFFSETFROM:-0500
TZOFFSETTO:-0600
TZNAME:CST
DTSTART:20241103T070000
END:STANDARD
END:VTIMEZONE
BEGIN:VEVENT
DTSTART;TZID=America/Chicago:20231202T100000
DTEND;TZID=America/Chicago:20231202T140000
DTSTAMP:20260422T065452
CREATED:20231121T184733Z
LAST-MODIFIED:20231121T184733Z
UID:10000964-1701511200-1701525600@riverartsalliance.org
SUMMARY:Oil Painting Class with Barb Halvorson at WAC
DESCRIPTION:Winona Arts Center | 228 E 5th St.\nwinonaarts.org \nPlease join us for an oil painting class with Barb Halvorson on December 2 from 10 am to 2 pm at the Winona Arts Center. Learn to paint a winter scene just in time for Christmas. An easy way to glaze will be demonstrated along with oil painting techniques. Beginners to experienced painters are welcome and no drawing experience is required. If you have brushes\, please bring them\, but supplies will be furnished. Fee is $40 for WAC members and $45 for non-members. To register\, contact Jen Benson at jsbenson50@gmail.com. Learn more.
URL:https://riverartsalliance.org/event/oil-painting-class-with-barb-halvorson-at-wac/
LOCATION:Winona Arts Center\, 228 E 5th St.\, Winona\, MN\, 55987\, United States
END:VEVENT
BEGIN:VEVENT
DTSTART;TZID=America/Chicago:20231202T190000
DTEND;TZID=America/Chicago:20231202T190000
DTSTAMP:20260422T065452
CREATED:20231121T185424Z
LAST-MODIFIED:20231121T185424Z
UID:10000965-1701543600-1701543600@riverartsalliance.org
SUMMARY:Messiah Sing-In Returns December 2
DESCRIPTION:Central Lutheran Church | 259 W Wabasha St. \nAfter a three-year hiatus\, Winona’s annual Messiah Sing-In made its jubilant return to Central Lutheran Church last year. On December 2nd\, the 29th edition of this treasured tradition\, led by founding conductor Dr. Harry A. Mechell\, will once again herald in the holiday season. The performance by BellaMusica\, orchestra\, and soloists will feature area musicians as well as the renowned North Star Boys’ Choir. And members of the audience will once again lift their voices to favorite choruses from Part One of Handel’s magnificent oratorio\, Messiah. \nTo enable all to attend\, the event will be free and open to everyone. Proceeds collected from a suggested $10 donation will be given to support the Winona Community Warming Center. For the first time\, this year’s performance will be livestreamed via an event on Central Lutheran’s Facebook page. Learn more.
URL:https://riverartsalliance.org/event/messiah-sing-in-returns-december-2/
LOCATION:Central Lutheran Church\, 259 W Wabasha St.\, Winona\, MN\, 55987\, United States
END:VEVENT
BEGIN:VEVENT
DTSTART;TZID=America/Chicago:20231202T190000
DTEND;TZID=America/Chicago:20231202T190000
DTSTAMP:20260422T065452
CREATED:20231121T190017Z
LAST-MODIFIED:20231121T190017Z
UID:10000968-1701543600-1701543600@riverartsalliance.org
SUMMARY:Root River Jam Concert at WAC
DESCRIPTION:Winona Arts Center | 228 E 5th St.\nwinonaarts.org \nThe Root River Jam will be in concert on December 2\, 2023 at 7 pm at the Winona Arts Center. The coffeehouse opens at 6 pm. Root River Jam is an Americana Roots band based in southeastern Minnesota. They are promoting the release of their new double album “Love is Unity”. Listeners instantly connect with expressive melodies\, improv\, and interaction\, recalling the “Jams” of the past and renewing the dreams of the future! Tickets are $15 in advance and $20 at the door and are available at Hardt’s Music until December 1 at 4 pm or through Eventbrite. Learn more.
URL:https://riverartsalliance.org/event/root-river-jam-concert-at-wac/
LOCATION:Winona Arts Center\, 228 E 5th St.\, Winona\, MN\, 55987\, United States
END:VEVENT
BEGIN:VEVENT
DTSTART;TZID=America/Chicago:20231202T190000
DTEND;TZID=America/Chicago:20231202T223000
DTSTAMP:20260422T065452
CREATED:20231128T003859Z
LAST-MODIFIED:20231128T003859Z
UID:10000998-1701543600-1701556200@riverartsalliance.org
SUMMARY:Holiday Dance
DESCRIPTION:Winona Athletic Club | 773 E 5th St.\nrivercitydancers.org \nCelebrate the season with us by dancing to classic (and new) Holiday music! Ring in the Holiday Spirit with us and dance under the twinkling lights. The Foxtrot & Single Swing dance lesson will be from 7:00 to 8:00 pm. The dance starts at 8:00 and goes until 10:30 pm. Cost is $15 for general admission\, $10 for students\, and includes the optional dance lesson. Learn more.
URL:https://riverartsalliance.org/event/holiday-dance/
LOCATION:Winona Athletic Club\, 773 E 5th St.\, Winona\, MN\, 55987\, United States
END:VEVENT
END:VCALENDAR