BEGIN:VCALENDAR
VERSION:2.0
PRODID:-//River Arts Alliance - ECPv6.15.20//NONSGML v1.0//EN
CALSCALE:GREGORIAN
METHOD:PUBLISH
X-WR-CALNAME:River Arts Alliance
X-ORIGINAL-URL:https://riverartsalliance.org
X-WR-CALDESC:Events for River Arts Alliance
REFRESH-INTERVAL;VALUE=DURATION:PT1H
X-Robots-Tag:noindex
X-PUBLISHED-TTL:PT1H
BEGIN:VTIMEZONE
TZID:America/Chicago
BEGIN:DAYLIGHT
TZOFFSETFROM:-0600
TZOFFSETTO:-0500
TZNAME:CDT
DTSTART:20220313T080000
END:DAYLIGHT
BEGIN:STANDARD
TZOFFSETFROM:-0500
TZOFFSETTO:-0600
TZNAME:CST
DTSTART:20221106T070000
END:STANDARD
BEGIN:DAYLIGHT
TZOFFSETFROM:-0600
TZOFFSETTO:-0500
TZNAME:CDT
DTSTART:20230312T080000
END:DAYLIGHT
BEGIN:STANDARD
TZOFFSETFROM:-0500
TZOFFSETTO:-0600
TZNAME:CST
DTSTART:20231105T070000
END:STANDARD
BEGIN:DAYLIGHT
TZOFFSETFROM:-0600
TZOFFSETTO:-0500
TZNAME:CDT
DTSTART:20240310T080000
END:DAYLIGHT
BEGIN:STANDARD
TZOFFSETFROM:-0500
TZOFFSETTO:-0600
TZNAME:CST
DTSTART:20241103T070000
END:STANDARD
END:VTIMEZONE
BEGIN:VEVENT
DTSTART;TZID=America/Chicago:20231203T130000
DTEND;TZID=America/Chicago:20231203T160000
DTSTAMP:20260422T065417
CREATED:20231121T194211Z
LAST-MODIFIED:20231121T194211Z
UID:10000970-1701608400-1701619200@riverartsalliance.org
SUMMARY:Opening Reception - Audacity: Exhibit by Nancy XiáoRong Valentine at WAC
DESCRIPTION:Winona Arts Center | 228 E 5th St.\nwinonaarts.org \nThe Winona Arts Center is pleased to host the exhibit Audacity\, featuring the works of artist Nancy XiáoRong Valentine\, from 12/3/23 through 1/14/24 with an opening reception on December 3\, 2023 from 1 pm to 4 pm. Nancy XiáoRong Valentine (she/her) is a Chinese American artist living and making a life in rural Otter Tail County\, Minnesota. Valentine views her artistry as a channel to deepen her cultural connections to and between her Chinese heritage and Midwestern roots. Her creative process begins and ends with intention\, resulting in conceptually complex visual stories woven with nuance and symbolism. Her expressive stylized brushwork is inspired by Chinese calligraphy and\, when paired with Valentine’s performative prose\, is meant to evoke empathy. Learn more.
URL:https://riverartsalliance.org/event/opening-reception-audacity-exhibit-by-nancy-xiaorong-valentine-at-wac/
LOCATION:Winona Arts Center\, 228 E 5th St.\, Winona\, MN\, 55987\, United States
END:VEVENT
END:VCALENDAR