BEGIN:VCALENDAR
VERSION:2.0
PRODID:-//River Arts Alliance - ECPv6.15.20//NONSGML v1.0//EN
CALSCALE:GREGORIAN
METHOD:PUBLISH
X-WR-CALNAME:River Arts Alliance
X-ORIGINAL-URL:https://riverartsalliance.org
X-WR-CALDESC:Events for River Arts Alliance
REFRESH-INTERVAL;VALUE=DURATION:PT1H
X-Robots-Tag:noindex
X-PUBLISHED-TTL:PT1H
BEGIN:VTIMEZONE
TZID:America/Chicago
BEGIN:DAYLIGHT
TZOFFSETFROM:-0600
TZOFFSETTO:-0500
TZNAME:CDT
DTSTART:20220313T080000
END:DAYLIGHT
BEGIN:STANDARD
TZOFFSETFROM:-0500
TZOFFSETTO:-0600
TZNAME:CST
DTSTART:20221106T070000
END:STANDARD
BEGIN:DAYLIGHT
TZOFFSETFROM:-0600
TZOFFSETTO:-0500
TZNAME:CDT
DTSTART:20230312T080000
END:DAYLIGHT
BEGIN:STANDARD
TZOFFSETFROM:-0500
TZOFFSETTO:-0600
TZNAME:CST
DTSTART:20231105T070000
END:STANDARD
BEGIN:DAYLIGHT
TZOFFSETFROM:-0600
TZOFFSETTO:-0500
TZNAME:CDT
DTSTART:20240310T080000
END:DAYLIGHT
BEGIN:STANDARD
TZOFFSETFROM:-0500
TZOFFSETTO:-0600
TZNAME:CST
DTSTART:20241103T070000
END:STANDARD
END:VTIMEZONE
BEGIN:VEVENT
DTSTART;TZID=America/Chicago:20231208T090000
DTEND;TZID=America/Chicago:20231208T170000
DTSTAMP:20260422T065419
CREATED:20231205T174816Z
LAST-MODIFIED:20231205T174816Z
UID:10000260-1702026000-1702054800@riverartsalliance.org
SUMMARY:Mary Singer Open Studio
DESCRIPTION:125 N Baker St. \nRiver Arts Alliance member artist Mary Singer will have her art displayed at her studio from 9 am to 5 pm on December 8 and 9. Find her at 125 N Baker St.\, Winona.
URL:https://riverartsalliance.org/event/mary-singer-open-studio/
LOCATION:MN
END:VEVENT
BEGIN:VEVENT
DTSTART;TZID=America/Chicago:20231208T160000
DTEND;TZID=America/Chicago:20231208T170000
DTSTAMP:20260422T065419
CREATED:20231205T175524Z
LAST-MODIFIED:20231205T175524Z
UID:10000264-1702051200-1702054800@riverartsalliance.org
SUMMARY:Closing Reception Tree Planting Tribute
DESCRIPTION:Billboard on Mankato Ave. at Riverbend Rd. \nA Meet the Artist closing reception for Billy X Curmano’s tree planting tribute will be held alongside the billboard on Mankato Avenue and Riverbend Road from 4 to 5 pm December 8th. The artist will be in attendance for that hour with cookies to share\, but advises he won’t provide a beverage. Selfies and photos are encouraged. The 10’ X 21’\, 8-seconds per minute tribute and Performance in Absentia will be visible through December 10th. It is located next to the Target parking lot and WNB Financial. Friday’s reception becomes the latest in his series of unauthorized performances. Billy X Curmano is a River Arts Alliance member artist.
URL:https://riverartsalliance.org/event/closing-reception-tree-planting-tribute/
LOCATION:MN
END:VEVENT
BEGIN:VEVENT
DTSTART;TZID=America/Chicago:20231208T190000
DTEND;TZID=America/Chicago:20231208T190000
DTSTAMP:20260422T065419
CREATED:20231129T014259Z
LAST-MODIFIED:20231129T014259Z
UID:10001004-1702062000-1702062000@riverartsalliance.org
SUMMARY:A Radiant Girl Film at WAC
DESCRIPTION:Winona Arts Center | 228 E 5th St.\nwinonaarts.org \nThe Winona Film Society is pleased to present the film A Radiant Girl on December 8 at the Winona Arts Center. Admission is $5 and doors open at 6:30 pm. This film by Sandrine Kiberlain is set in Paris in the summer of 1942. Irene is a 19-year-old aspiring actress without a care in the world. She does not realize time is running out as the Nazis grow closer to Paris. Legendary French actress Kiberlain makes her directorial debut with this allegorical coming-of-age drama set in Nazi-occupied France. Learn more.
URL:https://riverartsalliance.org/event/a-radiant-girl-film-at-wac/
LOCATION:Winona Arts Center\, 228 E 5th St.\, Winona\, MN\, 55987\, United States
END:VEVENT
END:VCALENDAR