BEGIN:VCALENDAR
VERSION:2.0
PRODID:-//River Arts Alliance - ECPv6.15.20//NONSGML v1.0//EN
CALSCALE:GREGORIAN
METHOD:PUBLISH
X-ORIGINAL-URL:https://riverartsalliance.org
X-WR-CALDESC:Events for River Arts Alliance
REFRESH-INTERVAL;VALUE=DURATION:PT1H
X-Robots-Tag:noindex
X-PUBLISHED-TTL:PT1H
BEGIN:VTIMEZONE
TZID:America/Chicago
BEGIN:DAYLIGHT
TZOFFSETFROM:-0600
TZOFFSETTO:-0500
TZNAME:CDT
DTSTART:20220313T080000
END:DAYLIGHT
BEGIN:STANDARD
TZOFFSETFROM:-0500
TZOFFSETTO:-0600
TZNAME:CST
DTSTART:20221106T070000
END:STANDARD
BEGIN:DAYLIGHT
TZOFFSETFROM:-0600
TZOFFSETTO:-0500
TZNAME:CDT
DTSTART:20230312T080000
END:DAYLIGHT
BEGIN:STANDARD
TZOFFSETFROM:-0500
TZOFFSETTO:-0600
TZNAME:CST
DTSTART:20231105T070000
END:STANDARD
BEGIN:DAYLIGHT
TZOFFSETFROM:-0600
TZOFFSETTO:-0500
TZNAME:CDT
DTSTART:20240310T080000
END:DAYLIGHT
BEGIN:STANDARD
TZOFFSETFROM:-0500
TZOFFSETTO:-0600
TZNAME:CST
DTSTART:20241103T070000
END:STANDARD
END:VTIMEZONE
BEGIN:VEVENT
DTSTART;TZID=America/Chicago:20231216T190000
DTEND;TZID=America/Chicago:20231216T190000
DTSTAMP:20260422T065500
CREATED:20231212T163727Z
LAST-MODIFIED:20231212T163727Z
UID:10000269-1702753200-1702753200@riverartsalliance.org
SUMMARY:Johnson Street Underground Holiday Concert at WAC
DESCRIPTION:Winona Arts Center | 228 E 5th St.\nwinonaarts.org \nThe Johnson Street Underground (JSU) will perform a holiday concert on December 16 at 7 pm at the Winona Arts Center. The gallery and coffeehouse open at 6 pm. Tickets are $10 in advance or $15 at the door and are available at Hardt’s Music until 4 pm on December 15 and on Eventbrite. \nJohnson Street Underground has been entertaining audiences in the Winona area for over five years. As the area’s premiere TTBB a cappella group\, JSU covers a wide variety of songs and styles\, including tunes by Maroon 5\, Dolly Parton\, the Beatles\, and Adele. Members of the group are Matt Schultz\, dramatic tenor; Seth Flatten\, lyric tenor; Charlie Opatz\, baritone; and John Chernega\, bass. This year’s holiday show includes new tunes\, percussion\, and audience sing-alongs. Come and get into the holiday spirt with us. Learn more.
URL:https://riverartsalliance.org/event/johnson-street-underground-holiday-concert-at-wac-2/
LOCATION:Winona Arts Center\, 228 E 5th St.\, Winona\, MN\, 55987\, United States
END:VEVENT
END:VCALENDAR