BEGIN:VCALENDAR
VERSION:2.0
PRODID:-//River Arts Alliance - ECPv6.15.20//NONSGML v1.0//EN
CALSCALE:GREGORIAN
METHOD:PUBLISH
X-ORIGINAL-URL:https://riverartsalliance.org
X-WR-CALDESC:Events for River Arts Alliance
REFRESH-INTERVAL;VALUE=DURATION:PT1H
X-Robots-Tag:noindex
X-PUBLISHED-TTL:PT1H
BEGIN:VTIMEZONE
TZID:America/Chicago
BEGIN:DAYLIGHT
TZOFFSETFROM:-0600
TZOFFSETTO:-0500
TZNAME:CDT
DTSTART:20220313T080000
END:DAYLIGHT
BEGIN:STANDARD
TZOFFSETFROM:-0500
TZOFFSETTO:-0600
TZNAME:CST
DTSTART:20221106T070000
END:STANDARD
BEGIN:DAYLIGHT
TZOFFSETFROM:-0600
TZOFFSETTO:-0500
TZNAME:CDT
DTSTART:20230312T080000
END:DAYLIGHT
BEGIN:STANDARD
TZOFFSETFROM:-0500
TZOFFSETTO:-0600
TZNAME:CST
DTSTART:20231105T070000
END:STANDARD
BEGIN:DAYLIGHT
TZOFFSETFROM:-0600
TZOFFSETTO:-0500
TZNAME:CDT
DTSTART:20240310T080000
END:DAYLIGHT
BEGIN:STANDARD
TZOFFSETFROM:-0500
TZOFFSETTO:-0600
TZNAME:CST
DTSTART:20241103T070000
END:STANDARD
END:VTIMEZONE
BEGIN:VEVENT
DTSTART;TZID=America/Chicago:20231222T180000
DTEND;TZID=America/Chicago:20231222T200000
DTSTAMP:20260422T065501
CREATED:20231219T174959Z
LAST-MODIFIED:20231219T174959Z
UID:10000271-1703268000-1703275200@riverartsalliance.org
SUMMARY:Unwind Friday “Holiday Edition” with H3O Jazz Trio
DESCRIPTION:Blooming Grounds Coffee House | 50 E 3rd St.\nH3OJazz.com \nAll year long\, Unwind Fridays with H3O Jazz Trio have been a popular way to kick back with friends at the end of the work week and enjoy some smooth jazz at Blooming Grounds. Join H3O as they wrap up 2023 with some holiday cheer on Friday\, December 22 from 6 – 8 pm at Blooming Grounds’ main location\, 50 E 3rd Street\, Winona\, MN. Come and enjoy a full menu of delicious offerings\, beer and wine\, coffee drinks\, and amazing desserts … with no cover charge! Learn more.
URL:https://riverartsalliance.org/event/unwind-friday-holiday-edition-with-h3o-jazz-trio/
LOCATION:Blooming Grounds Coffee House\, 50 E 3rd St.\, Winona\, MN\, 55987\, United States
END:VEVENT
END:VCALENDAR