BEGIN:VCALENDAR
VERSION:2.0
PRODID:-//River Arts Alliance - ECPv6.15.20//NONSGML v1.0//EN
CALSCALE:GREGORIAN
METHOD:PUBLISH
X-ORIGINAL-URL:https://riverartsalliance.org
X-WR-CALDESC:Events for River Arts Alliance
REFRESH-INTERVAL;VALUE=DURATION:PT1H
X-Robots-Tag:noindex
X-PUBLISHED-TTL:PT1H
BEGIN:VTIMEZONE
TZID:America/Chicago
BEGIN:DAYLIGHT
TZOFFSETFROM:-0600
TZOFFSETTO:-0500
TZNAME:CDT
DTSTART:20230312T080000
END:DAYLIGHT
BEGIN:STANDARD
TZOFFSETFROM:-0500
TZOFFSETTO:-0600
TZNAME:CST
DTSTART:20231105T070000
END:STANDARD
BEGIN:DAYLIGHT
TZOFFSETFROM:-0600
TZOFFSETTO:-0500
TZNAME:CDT
DTSTART:20240310T080000
END:DAYLIGHT
BEGIN:STANDARD
TZOFFSETFROM:-0500
TZOFFSETTO:-0600
TZNAME:CST
DTSTART:20241103T070000
END:STANDARD
BEGIN:DAYLIGHT
TZOFFSETFROM:-0600
TZOFFSETTO:-0500
TZNAME:CDT
DTSTART:20250309T080000
END:DAYLIGHT
BEGIN:STANDARD
TZOFFSETFROM:-0500
TZOFFSETTO:-0600
TZNAME:CST
DTSTART:20251102T070000
END:STANDARD
END:VTIMEZONE
BEGIN:VEVENT
DTSTART;TZID=America/Chicago:20240103T183000
DTEND;TZID=America/Chicago:20240103T200000
DTSTAMP:20260422T052652
CREATED:20240102T171639Z
LAST-MODIFIED:20240102T171639Z
UID:10001018-1704306600-1704312000@riverartsalliance.org
SUMMARY:Auditions for Theatre du Mississippi One Act Festival
DESCRIPTION:Valencia Arts Center | 1164 W Howard St.\ntheatredumiss.org \nTheatre du Mississippi is holding a second round of auditions from 6:30-8 pm on January 3 & 4 for the TDM One Act Festival in February. We will be casting about 20 actors but if acting isn’t your thing\, we’re always looking for crew to help out backstage with the shows. Auditions are open to individuals of any age\, race and ethnicity. Trans\, non-binary and gender non-conforming actors are especially encouraged to audition. No preparation is needed for auditions. Performance dates will be Feb 16-18 and 23-25. Learn more.
URL:https://riverartsalliance.org/event/auditions-for-theatre-du-mississippi-one-act-festival/
LOCATION:Minnesota Conservatory for the Arts\, 1164 W 10th St.\, Winona\, MN\, United States
END:VEVENT
END:VCALENDAR