BEGIN:VCALENDAR
VERSION:2.0
PRODID:-//River Arts Alliance - ECPv6.15.20//NONSGML v1.0//EN
CALSCALE:GREGORIAN
METHOD:PUBLISH
X-WR-CALNAME:River Arts Alliance
X-ORIGINAL-URL:https://riverartsalliance.org
X-WR-CALDESC:Events for River Arts Alliance
REFRESH-INTERVAL;VALUE=DURATION:PT1H
X-Robots-Tag:noindex
X-PUBLISHED-TTL:PT1H
BEGIN:VTIMEZONE
TZID:America/Chicago
BEGIN:DAYLIGHT
TZOFFSETFROM:-0600
TZOFFSETTO:-0500
TZNAME:CDT
DTSTART:20230312T080000
END:DAYLIGHT
BEGIN:STANDARD
TZOFFSETFROM:-0500
TZOFFSETTO:-0600
TZNAME:CST
DTSTART:20231105T070000
END:STANDARD
BEGIN:DAYLIGHT
TZOFFSETFROM:-0600
TZOFFSETTO:-0500
TZNAME:CDT
DTSTART:20240310T080000
END:DAYLIGHT
BEGIN:STANDARD
TZOFFSETFROM:-0500
TZOFFSETTO:-0600
TZNAME:CST
DTSTART:20241103T070000
END:STANDARD
BEGIN:DAYLIGHT
TZOFFSETFROM:-0600
TZOFFSETTO:-0500
TZNAME:CDT
DTSTART:20250309T080000
END:DAYLIGHT
BEGIN:STANDARD
TZOFFSETFROM:-0500
TZOFFSETTO:-0600
TZNAME:CST
DTSTART:20251102T070000
END:STANDARD
END:VTIMEZONE
BEGIN:VEVENT
DTSTART;TZID=America/Chicago:20240111T090000
DTEND;TZID=America/Chicago:20240111T160000
DTSTAMP:20260422T052526
CREATED:20231219T182354Z
LAST-MODIFIED:20231219T182647Z
UID:10001013-1704963600-1704988800@riverartsalliance.org
SUMMARY:Watercolor Workshop with Jeff Nelson
DESCRIPTION:Mississippi Mornings Art Studio | 40341 Lamoille Dr. \nMississippi Mornings Art Studio presents a Jeff Nelson “Funshop” on Perspective Painting. Join the fun as we delve into the world of structural perspective. This class will complete two paintings using one and two point perspective. Jeff plans to structure the class for the beginner as well as those who have experience with perspective drawing. Whichever applies to you\, this class will impart understanding and depth to your skills. This workshop will take place from 9:00 am to 4:00 pm each day on Thursday and Friday\, January 11 and 12. The workshop fee is $225. To register\, contact Linda Klabo at linda@mississippimornings.com or 507-459-8021. Learn more.
URL:https://riverartsalliance.org/event/watercolor-workshop-with-jeff-nelson/2024-01-11/
LOCATION:Mississippi Mornings Art Studio\, 40341 Lamoille Dr.\, Winona\, MN\, 55987\, United States
END:VEVENT
END:VCALENDAR