BEGIN:VCALENDAR
VERSION:2.0
PRODID:-//River Arts Alliance - ECPv6.15.20//NONSGML v1.0//EN
CALSCALE:GREGORIAN
METHOD:PUBLISH
X-ORIGINAL-URL:https://riverartsalliance.org
X-WR-CALDESC:Events for River Arts Alliance
REFRESH-INTERVAL;VALUE=DURATION:PT1H
X-Robots-Tag:noindex
X-PUBLISHED-TTL:PT1H
BEGIN:VTIMEZONE
TZID:America/Chicago
BEGIN:DAYLIGHT
TZOFFSETFROM:-0600
TZOFFSETTO:-0500
TZNAME:CDT
DTSTART:20230312T080000
END:DAYLIGHT
BEGIN:STANDARD
TZOFFSETFROM:-0500
TZOFFSETTO:-0600
TZNAME:CST
DTSTART:20231105T070000
END:STANDARD
BEGIN:DAYLIGHT
TZOFFSETFROM:-0600
TZOFFSETTO:-0500
TZNAME:CDT
DTSTART:20240310T080000
END:DAYLIGHT
BEGIN:STANDARD
TZOFFSETFROM:-0500
TZOFFSETTO:-0600
TZNAME:CST
DTSTART:20241103T070000
END:STANDARD
BEGIN:DAYLIGHT
TZOFFSETFROM:-0600
TZOFFSETTO:-0500
TZNAME:CDT
DTSTART:20250309T080000
END:DAYLIGHT
BEGIN:STANDARD
TZOFFSETFROM:-0500
TZOFFSETTO:-0600
TZNAME:CST
DTSTART:20251102T070000
END:STANDARD
END:VTIMEZONE
BEGIN:VEVENT
DTSTART;TZID=America/Chicago:20240112T090000
DTEND;TZID=America/Chicago:20240112T160000
DTSTAMP:20260422T052652
CREATED:20231219T182354Z
LAST-MODIFIED:20231219T182647Z
UID:10001014-1705050000-1705075200@riverartsalliance.org
SUMMARY:Watercolor Workshop with Jeff Nelson
DESCRIPTION:Mississippi Mornings Art Studio | 40341 Lamoille Dr. \nMississippi Mornings Art Studio presents a Jeff Nelson “Funshop” on Perspective Painting. Join the fun as we delve into the world of structural perspective. This class will complete two paintings using one and two point perspective. Jeff plans to structure the class for the beginner as well as those who have experience with perspective drawing. Whichever applies to you\, this class will impart understanding and depth to your skills. This workshop will take place from 9:00 am to 4:00 pm each day on Thursday and Friday\, January 11 and 12. The workshop fee is $225. To register\, contact Linda Klabo at linda@mississippimornings.com or 507-459-8021. Learn more.
URL:https://riverartsalliance.org/event/watercolor-workshop-with-jeff-nelson/2024-01-12/
LOCATION:Mississippi Mornings Art Studio\, 40341 Lamoille Dr.\, Winona\, MN\, 55987\, United States
END:VEVENT
BEGIN:VEVENT
DTSTART;TZID=America/Chicago:20240112T190000
DTEND;TZID=America/Chicago:20240112T190000
DTSTAMP:20260422T052652
CREATED:20240109T204936Z
LAST-MODIFIED:20240113T011036Z
UID:10001021-1705086000-1705086000@riverartsalliance.org
SUMMARY:POSTPONED - God’s Slave Film at WAC
DESCRIPTION:UPDATE 1/12/24: Due to weather\, this film showing has been canceled for January 12 and will be rescheduled for a later date.\nWinona Arts Center | 228 E 5th St.\nwinonaarts.org \nThe Winona Film Society is pleased to offer the film God’s Slave on January 12 at 7 pm with doors opening at 6:30 pm at the Winona Arts Center. Admission is $5 and still the best deal in town. \nThis film is a suspenseful cat and mouse game that leads to a deadly showdown. Ahmed\, trained since childhood as an Islamic terrorist\, is assigned to execute a bombing at a synagogue. David\, an Israeli special agent\, will stop at nothing to prevent the attack. Yet neither man is defined solely by their extremist views. With time running out before the attack\, David zeroes in on Ahmed as a suspect and there are unexpected consequences. Directed by Joel Novoa Schneider and based on the actual events of a 1994 bombing in Buenos Aires. Spanish with English subtitles. Learn more.
URL:https://riverartsalliance.org/event/gods-slave-film-at-wac/
LOCATION:Winona Arts Center\, 228 E 5th St.\, Winona\, MN\, 55987\, United States
END:VEVENT
END:VCALENDAR