BEGIN:VCALENDAR
VERSION:2.0
PRODID:-//River Arts Alliance - ECPv6.15.20//NONSGML v1.0//EN
CALSCALE:GREGORIAN
METHOD:PUBLISH
X-WR-CALNAME:River Arts Alliance
X-ORIGINAL-URL:https://riverartsalliance.org
X-WR-CALDESC:Events for River Arts Alliance
REFRESH-INTERVAL;VALUE=DURATION:PT1H
X-Robots-Tag:noindex
X-PUBLISHED-TTL:PT1H
BEGIN:VTIMEZONE
TZID:America/Chicago
BEGIN:DAYLIGHT
TZOFFSETFROM:-0600
TZOFFSETTO:-0500
TZNAME:CDT
DTSTART:20230312T080000
END:DAYLIGHT
BEGIN:STANDARD
TZOFFSETFROM:-0500
TZOFFSETTO:-0600
TZNAME:CST
DTSTART:20231105T070000
END:STANDARD
BEGIN:DAYLIGHT
TZOFFSETFROM:-0600
TZOFFSETTO:-0500
TZNAME:CDT
DTSTART:20240310T080000
END:DAYLIGHT
BEGIN:STANDARD
TZOFFSETFROM:-0500
TZOFFSETTO:-0600
TZNAME:CST
DTSTART:20241103T070000
END:STANDARD
BEGIN:DAYLIGHT
TZOFFSETFROM:-0600
TZOFFSETTO:-0500
TZNAME:CDT
DTSTART:20250309T080000
END:DAYLIGHT
BEGIN:STANDARD
TZOFFSETFROM:-0500
TZOFFSETTO:-0600
TZNAME:CST
DTSTART:20251102T070000
END:STANDARD
END:VTIMEZONE
BEGIN:VEVENT
DTSTART;TZID=America/Chicago:20240119T170000
DTEND;TZID=America/Chicago:20240119T190000
DTSTAMP:20260422T052527
CREATED:20231219T181521Z
LAST-MODIFIED:20240113T010645Z
UID:10000274-1705683600-1705690800@riverartsalliance.org
SUMMARY:Rescheduled: Opening Reception - You Are Here! Colleen Shore Artwork at the Blue Heron
DESCRIPTION:UPDATE: Due to weather\, the opening reception for You Are Here! Colleen Shore Artwork at the Blue Heron Coffeehouse has been rescheduled to Friday\, January 19\, from 5-7 pm. \nBlue Heron Coffeehouse Gallery | 162 W 2nd St.\ncshoreartwork.blogspot.com \nAn exhibition of paintings by River Arts Alliance member Colleen Shore will be on view at the Blue Heron Coffeehouse gallery from January 10 through March 2\, 2024. Colleen says\, “Take a journey through my paintings of places along the Upper Mississippi River — from Bluffs Views\, River Edges\, Wetland Refuge\, Prairie\, River Life and Towns. Painting is my passion as a visual artist\, working with oils since 2019 in my Onalaska home studio and outside\, plein air on occasion\, as weather permits. \nOn Friday\, January 19th from 5-7 pm\, join me for an evening of light refreshments as a guest of Blue Heron Coffeehouse. During the reception\, enjoy my display of oil paintings ‘You Are Here\,’ plus during the evening I’ll have dozens of unframed original oil paintings for sale with prices starting at $30-$50.” Learn more.
URL:https://riverartsalliance.org/event/opening-reception-you-are-here-colleen-shore-artwork-at-the-blue-heron/
LOCATION:Blue Heron Coffeehouse\, 162 W 2nd St\, Winona\, MN\, 55987\, United States
END:VEVENT
END:VCALENDAR